BEGIN:VCALENDAR
VERSION:2.0
PRODID:-//UVNEV - ECPv6.2.6//NONSGML v1.0//EN
CALSCALE:GREGORIAN
METHOD:PUBLISH
X-WR-CALNAME:UVNEV
X-ORIGINAL-URL:https://uvnev.de
X-WR-CALDESC:Veranstaltungen für UVNEV
REFRESH-INTERVAL;VALUE=DURATION:PT1H
X-Robots-Tag:noindex
X-PUBLISHED-TTL:PT1H
BEGIN:VTIMEZONE
TZID:Europe/Berlin
BEGIN:DAYLIGHT
TZOFFSETFROM:+0100
TZOFFSETTO:+0200
TZNAME:CEST
DTSTART:20250330T010000
END:DAYLIGHT
BEGIN:STANDARD
TZOFFSETFROM:+0200
TZOFFSETTO:+0100
TZNAME:CET
DTSTART:20251026T010000
END:STANDARD
END:VTIMEZONE
BEGIN:VEVENT
DTSTART;TZID=Europe/Berlin:20251203T160000
DTEND;TZID=Europe/Berlin:20251203T180000
DTSTAMP:20260423T231855
CREATED:20251203T153620Z
LAST-MODIFIED:20251203T153715Z
UID:18408-1764777600-1764784800@uvnev.de
SUMMARY:Weihnachtswerkstatt für Kinder!
DESCRIPTION:Wir heißen Kinder jeden Alters und ihre Eltern herzlich willkommen\, um in die festliche Stimmung und die kreative Atmosphäre einzutauchen! Ukrainischer Verein in Niedersachsen e.V.\, Königstrasse 20\, 30175 Hannover\, Küche\, 1. Stock. \n\n\n\nAnmeldung: https://widgets.yolawo.de/w/0/offers/692d5512344df29122ca8e49?t=1764590680169
URL:https://uvnev.de/veranstaltung/weihnachtswerkstatt-fuer-kinder/
END:VEVENT
BEGIN:VEVENT
DTSTART;TZID=Europe/Berlin:20251204T160000
DTEND;TZID=Europe/Berlin:20251204T180000
DTSTAMP:20260423T231855
CREATED:20251203T154805Z
LAST-MODIFIED:20251203T154806Z
UID:18418-1764864000-1764871200@uvnev.de
SUMMARY:Weihnachtswerkstatt für Kinder!
DESCRIPTION:Wir heißen Kinder jeden Alters und ihre Eltern herzlich willkommen\, um in die festliche Stimmung und die kreative Atmosphäre einzutauchen! Ukrainischer Verein in Niedersachsen e.V.\, Königstrasse 20\, 30175 Hannover\, Küche\, 1. Stock. \n\n\n\nAnmeldung: https://widgets.yolawo.de/w/0/offers/692d5512344df29122ca8e49?t=1764590680169
URL:https://uvnev.de/veranstaltung/weihnachtswerkstatt-fuer-kinder-2/
END:VEVENT
BEGIN:VEVENT
DTSTART;TZID=Europe/Berlin:20251206T110000
DTEND;TZID=Europe/Berlin:20251206T190000
DTSTAMP:20260423T231855
CREATED:20251203T210800Z
LAST-MODIFIED:20251203T210801Z
UID:18441-1765018800-1765047600@uvnev.de
SUMMARY:Unser Stand auf dem Bothfelder Weihnachtsmarkt
DESCRIPTION:Der Ukrainische Verein in Niedersachsen e. V. lädt Sie herzlich ein\, unseren Stand auf dem Bothfelder Weihnachtsmarkt in Hannover zu besuchen. Der Markt findet am 6. Dezember 2025 von 11:00 bis 19:00 Uhr statt.  \n\n\n\nAdresse: Kurze-Kamp-Straße\, 30659 Hannover-Bothfeld. Für weitere Informationen bitte hier klicken!
URL:https://uvnev.de/veranstaltung/unser-stand-auf-dem-bothfelder-weihnachtsmarkt/
END:VEVENT
BEGIN:VEVENT
DTSTART;TZID=Europe/Berlin:20251206T150000
DTEND;TZID=Europe/Berlin:20251206T163000
DTSTAMP:20260423T231855
CREATED:20251105T125449Z
LAST-MODIFIED:20251105T132900Z
UID:18325-1765033200-1765038600@uvnev.de
SUMMARY:Ukrainischer Traditionsabend – „Vechornytsi“ mit der Folkgruppe „Rodovid“ aus Hamburg in Hannover
DESCRIPTION:Ort: Ukrainischer Verein Niedersachsen\, Königstraße 20\, 30175 Hannover (Raum 2.1). Anmeldung erforderlich! Für Informationen und Anmeldung bitte hier klicken!
URL:https://uvnev.de/veranstaltung/ukrainischer-traditionsabend-vechornytsi-mit-der-folkgruppe-rodovid-aus-hamburg-in-hannover/
END:VEVENT
BEGIN:VEVENT
DTSTART;TZID=Europe/Berlin:20251210T160000
DTEND;TZID=Europe/Berlin:20251210T180000
DTSTAMP:20260423T231855
CREATED:20251203T155307Z
LAST-MODIFIED:20251203T155637Z
UID:18422-1765382400-1765389600@uvnev.de
SUMMARY:Weihnachtswerkstatt für Kinder!
DESCRIPTION:Wir heißen Kinder jeden Alters und ihre Eltern herzlich willkommen\, um in die festliche Stimmung und die kreative Atmosphäre einzutauchen! Ukrainischer Verein in Niedersachsen e.V.\, Königstrasse 20\, 30175 Hannover\, Küche\, 1. Stock. \n\n\n\nAnmeldung: https://widgets.yolawo.de/w/0/offers/692d5512344df29122ca8e49?t=1764590680169
URL:https://uvnev.de/veranstaltung/weihnachtswerkstatt-fuer-kinder-3/
END:VEVENT
BEGIN:VEVENT
DTSTART;TZID=Europe/Berlin:20251211T160000
DTEND;TZID=Europe/Berlin:20251211T180000
DTSTAMP:20260423T231855
CREATED:20251203T160001Z
LAST-MODIFIED:20251203T160002Z
UID:18426-1765468800-1765476000@uvnev.de
SUMMARY:Weihnachtswerkstatt für Kinder!
DESCRIPTION:Wir heißen Kinder jeden Alters und ihre Eltern herzlich willkommen\, um in die festliche Stimmung und die kreative Atmosphäre einzutauchen! Ukrainischer Verein in Niedersachsen e.V.\, Königstrasse 20\, 30175 Hannover\, Küche\, 1. Stock. \n\n\n\nAnmeldung: https://widgets.yolawo.de/w/0/offers/692d5512344df29122ca8e49?t=1764590680169
URL:https://uvnev.de/veranstaltung/weihnachtswerkstatt-fuer-kinder-4/
END:VEVENT
BEGIN:VEVENT
DTSTART;TZID=Europe/Berlin:20251219T183000
DTEND;TZID=Europe/Berlin:20251219T183000
DTSTAMP:20260423T231855
CREATED:20251102T174451Z
LAST-MODIFIED:20251103T154642Z
UID:18150-1766169000-1766169000@uvnev.de
SUMMARY:Weihnachtliches Benefizkonzert der Volkskünstler der Ukraine\, Dmytro und Nazarii Yaremchuk
DESCRIPTION:Matthäikirche\, Matthäikirchstrasse 11\, 30519 Hannover. Anmeldung erforderlich
URL:https://uvnev.de/veranstaltung/weihnachtliches-benefizkonzert-der-volkskuenstler-der-ukraine-dmytro-und-nazarii-yaremchuk/
END:VEVENT
BEGIN:VEVENT
DTSTART;TZID=Europe/Berlin:20251221T140000
DTEND;TZID=Europe/Berlin:20251221T183000
DTSTAMP:20260423T231855
CREATED:20251102T181619Z
LAST-MODIFIED:20251103T154706Z
UID:18157-1766325600-1766341800@uvnev.de
SUMMARY:Weihnachten auf Ukrainisch – Feiern wir gemeinsam!
DESCRIPTION:Familienprogramm im Foyer und im Kleinen Saal\, Kulturzentrum Pavillon\, Lister Meile 4\, 30161 Hannover. Wir bitten um Anmeldung\, damit wir die Aktivitäten besser planen können.
URL:https://uvnev.de/veranstaltung/weihnachten-auf-ukrainisch-feiern-wir-gemeinsam/
END:VEVENT
BEGIN:VEVENT
DTSTART;TZID=Europe/Berlin:20251221T190000
DTEND;TZID=Europe/Berlin:20251221T190000
DTSTAMP:20260423T231855
CREATED:20251102T184751Z
LAST-MODIFIED:20251105T091820Z
UID:18163-1766343600-1766343600@uvnev.de
SUMMARY:Weihnachten auf Ukrainisch – Feiern wir gemeinsam!
DESCRIPTION:Weihnachtskonzert „Schtschedryk“\, Ensemble „Svite“ und Freunde im Großen Saal\, Kulturzentrum Pavillon\, Lister Meile 4\, 30161 Hannover. \n\n\n\nTickets im Vorverkauf: pavillon-hannover.de/event/details/70126/unmada-svite
URL:https://uvnev.de/veranstaltung/weihnachten-auf-ukrainisch-feiern-wir-gemeinsam-2/
END:VEVENT
END:VCALENDAR