BEGIN:VCALENDAR
VERSION:2.0
PRODID:-//UVNEV - ECPv6.2.6//NONSGML v1.0//EN
CALSCALE:GREGORIAN
METHOD:PUBLISH
X-WR-CALNAME:UVNEV
X-ORIGINAL-URL:https://uvnev.de
X-WR-CALDESC:Veranstaltungen für UVNEV
REFRESH-INTERVAL;VALUE=DURATION:PT1H
X-Robots-Tag:noindex
X-PUBLISHED-TTL:PT1H
BEGIN:VTIMEZONE
TZID:Europe/Berlin
BEGIN:DAYLIGHT
TZOFFSETFROM:+0100
TZOFFSETTO:+0200
TZNAME:CEST
DTSTART:20250330T010000
END:DAYLIGHT
BEGIN:STANDARD
TZOFFSETFROM:+0200
TZOFFSETTO:+0100
TZNAME:CET
DTSTART:20251026T010000
END:STANDARD
END:VTIMEZONE
BEGIN:VEVENT
DTSTART;TZID=Europe/Berlin:20250906T110000
DTEND;TZID=Europe/Berlin:20250906T160000
DTSTAMP:20260424T032707
CREATED:20250827T090356Z
LAST-MODIFIED:20250827T090358Z
UID:17778-1757156400-1757174400@uvnev.de
SUMMARY:Ukrainischer Stand beim "Kulturlustwandern in Hannover-Döhren" (Mütterzentrum Döhren und Fiedelerplatz)
DESCRIPTION:
URL:https://uvnev.de/veranstaltung/ukrainischer-stand-beim-kulturlustwandern-in-hannover-doehren-muetterzentrum-doehren-und-fiedelerplatz/
END:VEVENT
BEGIN:VEVENT
DTSTART;TZID=Europe/Berlin:20250907T110000
DTEND;TZID=Europe/Berlin:20250907T160000
DTSTAMP:20260424T032707
CREATED:20250827T091020Z
LAST-MODIFIED:20250827T091127Z
UID:17785-1757242800-1757260800@uvnev.de
SUMMARY:Ukrainischer Stand beim "Kulturlustwandern in Hannover-Döhren" (Mütterzentrum Döhren und Fiedelerplatz)
DESCRIPTION:
URL:https://uvnev.de/veranstaltung/ukrainischer-stand-beim-kulturlustwandern-in-hannover-doehren-muetterzentrum-doehren-und-fiedelerplatz-2/
END:VEVENT
BEGIN:VEVENT
DTSTART;TZID=Europe/Berlin:20250914T110000
DTEND;TZID=Europe/Berlin:20250914T190000
DTSTAMP:20260424T032707
CREATED:20250827T091337Z
LAST-MODIFIED:20250827T091338Z
UID:17788-1757847600-1757876400@uvnev.de
SUMMARY:Ukrainischer Stand beim Entdeckertag im Zentrum von Hannover
DESCRIPTION:
URL:https://uvnev.de/veranstaltung/ukrainischer-stand-beim-entdeckertag-im-zentrum-von-hannover/
END:VEVENT
BEGIN:VEVENT
DTSTART;TZID=Europe/Berlin:20250914T120000
DTEND;TZID=Europe/Berlin:20250914T170000
DTSTAMP:20260424T032707
CREATED:20250827T091740Z
LAST-MODIFIED:20250827T091742Z
UID:17792-1757851200-1757869200@uvnev.de
SUMMARY:Ukrainischer Stand beim Fest der Vielfalt von IIK e. V. auf dem Faust-Gelände
DESCRIPTION:
URL:https://uvnev.de/veranstaltung/ukrainischer-stand-beim-fest-der-vielfalt-von-iik-e-v-auf-dem-faust-gelaende/
END:VEVENT
BEGIN:VEVENT
DTSTART;TZID=Europe/Berlin:20250920T110000
DTEND;TZID=Europe/Berlin:20250920T190000
DTSTAMP:20260424T032707
CREATED:20250827T092116Z
LAST-MODIFIED:20250827T092117Z
UID:17796-1758366000-1758394800@uvnev.de
SUMMARY:Ukrainischer Stand beim Bothfelder Herbstmarkt\, Hannover Bothfeld
DESCRIPTION:
URL:https://uvnev.de/veranstaltung/ukrainischer-stand-beim-bothfelder-herbstmarkt-hannover-bothfeld/
END:VEVENT
BEGIN:VEVENT
DTSTART;TZID=Europe/Berlin:20250921T110000
DTEND;TZID=Europe/Berlin:20250921T190000
DTSTAMP:20260424T032707
CREATED:20250827T092325Z
LAST-MODIFIED:20250827T092326Z
UID:17800-1758452400-1758481200@uvnev.de
SUMMARY:Ukrainischer Stand beim Bothfelder Herbstmarkt\, Hannover Bothfeld
DESCRIPTION:
URL:https://uvnev.de/veranstaltung/ukrainischer-stand-beim-bothfelder-herbstmarkt-hannover-bothfeld-2/
END:VEVENT
BEGIN:VEVENT
DTSTART;TZID=Europe/Berlin:20250925T183000
DTEND;TZID=Europe/Berlin:20250925T200000
DTSTAMP:20260424T032707
CREATED:20250827T092944Z
LAST-MODIFIED:20250827T093618Z
UID:17805-1758825000-1758830400@uvnev.de
SUMMARY:Konzert der Nationalen Kapellensemble der Banduristen der Ukraine
DESCRIPTION:Matthäikirche\, Matthäikirchstrasse 11\, 30519 Hannover. Anmeldung: https://bit.ly/3UF1xgM
URL:https://uvnev.de/veranstaltung/konzert-der-nationalen-kapellensemble-der-banduristen-der-ukraine/
END:VEVENT
BEGIN:VEVENT
DTSTART;TZID=Europe/Berlin:20250927T150000
DTEND;TZID=Europe/Berlin:20250927T163000
DTSTAMP:20260424T032707
CREATED:20250828T161600Z
LAST-MODIFIED:20250925T162202Z
UID:17813-1758985200-1758990600@uvnev.de
SUMMARY:KONZERT FÄLLT AUS !!!: Wohltätigkeitskonzert 1 der ukrainischen Sängerin Zlata Ognevych
DESCRIPTION:Matthäikirche\, Matthäikirchstrasse 11\, 30519 Hannover. \n\n\n\nKonzert 1\, 15-16:30.
URL:https://uvnev.de/veranstaltung/konzert-1-der-ukrainischen-saengerin-zlata-ognevych/
END:VEVENT
BEGIN:VEVENT
DTSTART;TZID=Europe/Berlin:20250927T180000
DTEND;TZID=Europe/Berlin:20250927T193000
DTSTAMP:20260424T032707
CREATED:20250828T162505Z
LAST-MODIFIED:20250925T162130Z
UID:17819-1758996000-1759001400@uvnev.de
SUMMARY:KONZERT FÄLLT AUS !!!: Wohltätigkeitskonzert 2 der ukrainischen Sängerin Zlata Ognevych
DESCRIPTION:Matthäikirche\, Matthäikirchstrasse 11\, 30519 Hannover. \n\n\n\nKonzert 2\, 18-19:30.
URL:https://uvnev.de/veranstaltung/konzert-2-der-ukrainischen-saengerin-zlata-ognevych/
END:VEVENT
BEGIN:VEVENT
DTSTART;TZID=Europe/Berlin:20250927T180000
DTEND;TZID=Europe/Berlin:20250927T193000
DTSTAMP:20260424T032707
CREATED:20250828T163532Z
LAST-MODIFIED:20250828T163536Z
UID:17823-1758996000-1759001400@uvnev.de
SUMMARY:Vorführung des Dokumentarfilms "Jaroslaw der Weise – Schwiegervater Europas"
DESCRIPTION:Ukrainischer Verein in Niedersachsen e. V.\, Königstraße 20\, 30175 Hannover (Raum 2.1.) \n\n\n\nEintritt frei\, Anmeldung: https://bit.ly/41MFKaO
URL:https://uvnev.de/veranstaltung/vorfuehrung-des-dokumentarfilms-jaroslaw-der-weise-schwiegervater-europas/
END:VEVENT
END:VCALENDAR