BEGIN:VCALENDAR
VERSION:2.0
PRODID:-//UVNEV - ECPv6.2.6//NONSGML v1.0//EN
CALSCALE:GREGORIAN
METHOD:PUBLISH
X-WR-CALNAME:UVNEV
X-ORIGINAL-URL:https://uvnev.de
X-WR-CALDESC:Veranstaltungen für UVNEV
REFRESH-INTERVAL;VALUE=DURATION:PT1H
X-Robots-Tag:noindex
X-PUBLISHED-TTL:PT1H
BEGIN:VTIMEZONE
TZID:Europe/Berlin
BEGIN:DAYLIGHT
TZOFFSETFROM:+0100
TZOFFSETTO:+0200
TZNAME:CEST
DTSTART:20250330T010000
END:DAYLIGHT
BEGIN:STANDARD
TZOFFSETFROM:+0200
TZOFFSETTO:+0100
TZNAME:CET
DTSTART:20251026T010000
END:STANDARD
END:VTIMEZONE
BEGIN:VEVENT
DTSTART;TZID=Europe/Berlin:20251221T140000
DTEND;TZID=Europe/Berlin:20251221T183000
DTSTAMP:20260424T003735
CREATED:20251102T181619Z
LAST-MODIFIED:20251103T154706Z
UID:18157-1766325600-1766341800@uvnev.de
SUMMARY:Weihnachten auf Ukrainisch – Feiern wir gemeinsam!
DESCRIPTION:Familienprogramm im Foyer und im Kleinen Saal\, Kulturzentrum Pavillon\, Lister Meile 4\, 30161 Hannover. Wir bitten um Anmeldung\, damit wir die Aktivitäten besser planen können.
URL:https://uvnev.de/veranstaltung/weihnachten-auf-ukrainisch-feiern-wir-gemeinsam/
END:VEVENT
BEGIN:VEVENT
DTSTART;TZID=Europe/Berlin:20251221T190000
DTEND;TZID=Europe/Berlin:20251221T190000
DTSTAMP:20260424T003735
CREATED:20251102T184751Z
LAST-MODIFIED:20251105T091820Z
UID:18163-1766343600-1766343600@uvnev.de
SUMMARY:Weihnachten auf Ukrainisch – Feiern wir gemeinsam!
DESCRIPTION:Weihnachtskonzert „Schtschedryk“\, Ensemble „Svite“ und Freunde im Großen Saal\, Kulturzentrum Pavillon\, Lister Meile 4\, 30161 Hannover. \n\n\n\nTickets im Vorverkauf: pavillon-hannover.de/event/details/70126/unmada-svite
URL:https://uvnev.de/veranstaltung/weihnachten-auf-ukrainisch-feiern-wir-gemeinsam-2/
END:VEVENT
END:VCALENDAR