BEGIN:VCALENDAR
VERSION:2.0
PRODID:-//UVNEV - ECPv6.2.6//NONSGML v1.0//EN
CALSCALE:GREGORIAN
METHOD:PUBLISH
X-ORIGINAL-URL:https://uvnev.de
X-WR-CALDESC:Veranstaltungen für UVNEV
REFRESH-INTERVAL;VALUE=DURATION:PT1H
X-Robots-Tag:noindex
X-PUBLISHED-TTL:PT1H
BEGIN:VTIMEZONE
TZID:Europe/Berlin
BEGIN:DAYLIGHT
TZOFFSETFROM:+0100
TZOFFSETTO:+0200
TZNAME:CEST
DTSTART:20250330T010000
END:DAYLIGHT
BEGIN:STANDARD
TZOFFSETFROM:+0200
TZOFFSETTO:+0100
TZNAME:CET
DTSTART:20251026T010000
END:STANDARD
END:VTIMEZONE
BEGIN:VEVENT
DTSTART;TZID=Europe/Berlin:20251203T160000
DTEND;TZID=Europe/Berlin:20251203T180000
DTSTAMP:20260424T003912
CREATED:20251203T153620Z
LAST-MODIFIED:20251203T153715Z
UID:18408-1764777600-1764784800@uvnev.de
SUMMARY:Weihnachtswerkstatt für Kinder!
DESCRIPTION:Wir heißen Kinder jeden Alters und ihre Eltern herzlich willkommen\, um in die festliche Stimmung und die kreative Atmosphäre einzutauchen! Ukrainischer Verein in Niedersachsen e.V.\, Königstrasse 20\, 30175 Hannover\, Küche\, 1. Stock. \n\n\n\nAnmeldung: https://widgets.yolawo.de/w/0/offers/692d5512344df29122ca8e49?t=1764590680169
URL:https://uvnev.de/veranstaltung/weihnachtswerkstatt-fuer-kinder/
END:VEVENT
END:VCALENDAR