BEGIN:VCALENDAR
VERSION:2.0
PRODID:-//UVNEV - ECPv6.2.6//NONSGML v1.0//EN
CALSCALE:GREGORIAN
METHOD:PUBLISH
X-ORIGINAL-URL:https://uvnev.de/uk/
X-WR-CALDESC:Events for UVNEV
REFRESH-INTERVAL;VALUE=DURATION:PT1H
X-Robots-Tag:noindex
X-PUBLISHED-TTL:PT1H
BEGIN:VTIMEZONE
TZID:Europe/Berlin
BEGIN:DAYLIGHT
TZOFFSETFROM:+0100
TZOFFSETTO:+0200
TZNAME:CEST
DTSTART:20250330T010000
END:DAYLIGHT
BEGIN:STANDARD
TZOFFSETFROM:+0200
TZOFFSETTO:+0100
TZNAME:CET
DTSTART:20251026T010000
END:STANDARD
END:VTIMEZONE
BEGIN:VEVENT
DTSTART;TZID=Europe/Berlin:20251203T160000
DTEND;TZID=Europe/Berlin:20251203T180000
DTSTAMP:20260424T004055
CREATED:20251203T154416Z
LAST-MODIFIED:20251203T154417Z
UID:18414-1764777600-1764784800@uvnev.de
SUMMARY:Запрошуємо на Різдвяну Майстерню для дітей та молоді!
DESCRIPTION:Шукаєте святкову активність для ваших малюків? Приєднуйтесь до нас і разом поринемо в атмосферу магії Різдва! Українська Спілка Нижньої Саксонії\, кухня\, 1 поверх. \n\n\n\nЗаписуйтеся зараз і робіть Різдво ще яскравішим https://widgets.yolawo.de/w/0/offers/692d5512344df29122ca8e49?t=1764590680169!
URL:https://uvnev.de/uk/veranstaltung/%d0%b7%d0%b0%d0%bf%d1%80%d0%be%d1%88%d1%83%d1%94%d0%bc%d0%be-%d0%bd%d0%b0-%d1%80%d1%96%d0%b7%d0%b4%d0%b2%d1%8f%d0%bd%d1%83-%d0%bc%d0%b0%d0%b9%d1%81%d1%82%d0%b5%d1%80%d0%bd%d1%8e-%d0%b4%d0%bb%d1%8f/
END:VEVENT
BEGIN:VEVENT
DTSTART;TZID=Europe/Berlin:20251204T160000
DTEND;TZID=Europe/Berlin:20251204T180000
DTSTAMP:20260424T004055
CREATED:20251203T154940Z
LAST-MODIFIED:20251203T154942Z
UID:18420-1764864000-1764871200@uvnev.de
SUMMARY:Запрошуємо на Різдвяну Майстерню для дітей та молоді!
DESCRIPTION:Шукаєте святкову активність для ваших малюків? Приєднуйтесь до нас і разом поринемо в атмосферу магії Різдва! Українська Спілка Нижньої Саксонії\, кухня\, 1 поверх. \n\n\n\nЗаписуйтеся зараз і робіть Різдво ще яскравішим https://widgets.yolawo.de/w/0/offers/692d5512344df29122ca8e49?t=1764590680169!
URL:https://uvnev.de/uk/veranstaltung/%d0%b7%d0%b0%d0%bf%d1%80%d0%be%d1%88%d1%83%d1%94%d0%bc%d0%be-%d0%bd%d0%b0-%d1%80%d1%96%d0%b7%d0%b4%d0%b2%d1%8f%d0%bd%d1%83-%d0%bc%d0%b0%d0%b9%d1%81%d1%82%d0%b5%d1%80%d0%bd%d1%8e-%d0%b4%d0%bb%d1%8f-2/
END:VEVENT
BEGIN:VEVENT
DTSTART;TZID=Europe/Berlin:20251206T110000
DTEND;TZID=Europe/Berlin:20251206T190000
DTSTAMP:20260424T004055
CREATED:20251203T211422Z
LAST-MODIFIED:20251203T211931Z
UID:18444-1765018800-1765047600@uvnev.de
SUMMARY:Наш стенд на Bothfelder Weihnachtsmarkt
DESCRIPTION:Українська Спілка Нижньої Саксонії щиро запрошує вас відвідати наш стенд на Bothfelder Weihnachtsmarkt у Ганновері\, який відбудеться 6 грудня 2025 року з 11:00 до 19:00. Для отримання додаткової інформації натисніть тут! \n\n\n\nАдреса: Kurze-Kamp-Straße\, 30659 Hannover-Bothfeld
URL:https://uvnev.de/uk/veranstaltung/%d0%bd%d0%b0%d1%88-%d1%81%d1%82%d0%b5%d0%bd%d0%b4-%d0%bd%d0%b0-bothfelder-weihnachtsmarkt/
END:VEVENT
BEGIN:VEVENT
DTSTART;TZID=Europe/Berlin:20251206T150000
DTEND;TZID=Europe/Berlin:20251206T163000
DTSTAMP:20260424T004055
CREATED:20251105T130243Z
LAST-MODIFIED:20251105T131517Z
UID:18329-1765033200-1765038600@uvnev.de
SUMMARY:Українські вечорниці з фольк-гуртом „Родовід“ у Ганновері
DESCRIPTION:Місце проведення: Українська Спілка Нижньої Саксонії\, Königstraße 20\, 30175 Hannover (кімн. 2.1). Необхідна реєстрація! Для отримання інформації та реєстрації\, будь ласка\, натисніть тут!
URL:https://uvnev.de/uk/veranstaltung/%d1%83%d0%ba%d1%80%d0%b0%d1%97%d0%bd%d1%81%d1%8c%d0%ba%d1%96-%d0%b2%d0%b5%d1%87%d0%be%d1%80%d0%bd%d0%b8%d1%86%d1%96-%d0%b7-%d1%84%d0%be%d0%bb%d1%8c%d0%ba-%d0%b3%d1%83%d1%80%d1%82%d0%be%d0%bc/
END:VEVENT
BEGIN:VEVENT
DTSTART;TZID=Europe/Berlin:20251210T160000
DTEND;TZID=Europe/Berlin:20251210T180000
DTSTAMP:20260424T004055
CREATED:20251203T155429Z
LAST-MODIFIED:20251203T155431Z
UID:18424-1765382400-1765389600@uvnev.de
SUMMARY:Запрошуємо на Різдвяну Майстерню для дітей та молоді!
DESCRIPTION:Шукаєте святкову активність для ваших малюків? Приєднуйтесь до нас і разом поринемо в атмосферу магії Різдва! Українська Спілка Нижньої Саксонії\, кухня\, 1 поверх. \n\n\n\nЗаписуйтеся зараз і робіть Різдво ще яскравішим https://widgets.yolawo.de/w/0/offers/692d5512344df29122ca8e49?t=1764590680169!
URL:https://uvnev.de/uk/veranstaltung/%d0%b7%d0%b0%d0%bf%d1%80%d0%be%d1%88%d1%83%d1%94%d0%bc%d0%be-%d0%bd%d0%b0-%d1%80%d1%96%d0%b7%d0%b4%d0%b2%d1%8f%d0%bd%d1%83-%d0%bc%d0%b0%d0%b9%d1%81%d1%82%d0%b5%d1%80%d0%bd%d1%8e-%d0%b4%d0%bb%d1%8f-3/
END:VEVENT
BEGIN:VEVENT
DTSTART;TZID=Europe/Berlin:20251211T160000
DTEND;TZID=Europe/Berlin:20251211T180000
DTSTAMP:20260424T004055
CREATED:20251203T160123Z
LAST-MODIFIED:20251203T160124Z
UID:18428-1765468800-1765476000@uvnev.de
SUMMARY:Запрошуємо на Різдвяну Майстерню для дітей та молоді!
DESCRIPTION:Шукаєте святкову активність для ваших малюків? Приєднуйтесь до нас і разом поринемо в атмосферу магії Різдва! Українська Спілка Нижньої Саксонії\, кухня\, 1 поверх. \n\n\n\nЗаписуйтеся зараз і робіть Різдво ще яскравішим https://widgets.yolawo.de/w/0/offers/692d5512344df29122ca8e49?t=1764590680169!
URL:https://uvnev.de/uk/veranstaltung/%d0%b7%d0%b0%d0%bf%d1%80%d0%be%d1%88%d1%83%d1%94%d0%bc%d0%be-%d0%bd%d0%b0-%d1%80%d1%96%d0%b7%d0%b4%d0%b2%d1%8f%d0%bd%d1%83-%d0%bc%d0%b0%d0%b9%d1%81%d1%82%d0%b5%d1%80%d0%bd%d1%8e-%d0%b4%d0%bb%d1%8f-4/
END:VEVENT
BEGIN:VEVENT
DTSTART;TZID=Europe/Berlin:20251219T183000
DTEND;TZID=Europe/Berlin:20251219T183000
DTSTAMP:20260424T004055
CREATED:20251102T180011Z
LAST-MODIFIED:20251103T151545Z
UID:18153-1766169000-1766169000@uvnev.de
SUMMARY:Різдвяний благодійний концерт народних артистів України Дмитра та Назарія Яремчуків 19 грудня 2025 року
DESCRIPTION:Місце проведення: Matthäikirche (Церква Святого Матея)Адреса: Matthäikirchstraße 11\, 30519 Hannover. Реєстрація оов’язковаб. \n\n\n\nВхід за донат 15 євро на благодійні проєкти братів Яремчуків
URL:https://uvnev.de/uk/veranstaltung/%d1%80%d1%96%d0%b7%d0%b4%d0%b2%d1%8f%d0%bd%d0%b8%d0%b9-%d0%b1%d0%bb%d0%b0%d0%b3%d0%be%d0%b4%d1%96%d0%b9%d0%bd%d0%b8%d0%b9-%d0%ba%d0%be%d0%bd%d1%86%d0%b5%d1%80%d1%82-%d0%bd%d0%b0%d1%80%d0%be%d0%b4/
END:VEVENT
BEGIN:VEVENT
DTSTART;TZID=Europe/Berlin:20251221T140000
DTEND;TZID=Europe/Berlin:20251221T183000
DTSTAMP:20260424T004055
CREATED:20251102T182245Z
LAST-MODIFIED:20251103T151204Z
UID:18160-1766325600-1766341800@uvnev.de
SUMMARY:Різдво по-українськи – святкуймо разом!
DESCRIPTION:Сімейна програма у фойє та Малій залі\, Kulturzentrum Pavillon\, Lister Meile 4\, 30161 Hannover.Просимо зареєструватися\, щоб ми могли краще планувати активності. 
URL:https://uvnev.de/uk/veranstaltung/%d1%80%d1%96%d0%b7%d0%b4%d0%b2%d0%be-%d0%bf%d0%be-%d1%83%d0%ba%d1%80%d0%b0%d1%97%d0%bd%d1%81%d1%8c%d0%ba%d0%b8-%d1%81%d0%b2%d1%8f%d1%82%d0%ba%d1%83%d0%b9%d0%bc%d0%be-%d1%80%d0%b0%d0%b7%d0%be/
END:VEVENT
BEGIN:VEVENT
DTSTART;TZID=Europe/Berlin:20251221T190000
DTEND;TZID=Europe/Berlin:20251221T190000
DTSTAMP:20260424T004055
CREATED:20251102T190326Z
LAST-MODIFIED:20251105T092043Z
UID:18169-1766343600-1766343600@uvnev.de
SUMMARY:Різдво по-українськи – святкуймо разом!
DESCRIPTION:Різдвяний концерт „Щедрик“\, ансамбль „Світи“ та друзі у Великому залі\, Kulturzentrum Pavillon\, Lister Meile 4\, 30161 Hannover. \n\n\n\nКвитки можна придбати заздалегідь: pavillon-hannover.de/event/details/70126/unmada-svite
URL:https://uvnev.de/uk/veranstaltung/%d1%80%d1%96%d0%b7%d0%b4%d0%b2%d0%be-%d0%bf%d0%be-%d1%83%d0%ba%d1%80%d0%b0%d1%97%d0%bd%d1%81%d1%8c%d0%ba%d0%b8-%d1%81%d0%b2%d1%8f%d1%82%d0%ba%d1%83%d0%b9%d0%bc%d0%be-%d1%80%d0%b0%d0%b7%d0%be-2/
END:VEVENT
END:VCALENDAR