BEGIN:VCALENDAR
VERSION:2.0
PRODID:-//UVNEV - ECPv6.2.6//NONSGML v1.0//EN
CALSCALE:GREGORIAN
METHOD:PUBLISH
X-WR-CALNAME:UVNEV
X-ORIGINAL-URL:https://uvnev.de/uk/
X-WR-CALDESC:Events for UVNEV
REFRESH-INTERVAL;VALUE=DURATION:PT1H
X-Robots-Tag:noindex
X-PUBLISHED-TTL:PT1H
BEGIN:VTIMEZONE
TZID:Europe/Berlin
BEGIN:DAYLIGHT
TZOFFSETFROM:+0100
TZOFFSETTO:+0200
TZNAME:CEST
DTSTART:20220327T010000
END:DAYLIGHT
BEGIN:STANDARD
TZOFFSETFROM:+0200
TZOFFSETTO:+0100
TZNAME:CET
DTSTART:20221030T010000
END:STANDARD
END:VTIMEZONE
BEGIN:VEVENT
DTSTART;TZID=Europe/Berlin:20220811T170000
DTEND;TZID=Europe/Berlin:20220811T173000
DTSTAMP:20260425T212322
CREATED:20220728T164839Z
LAST-MODIFIED:20220728T164841Z
UID:11226-1660237200-1660239000@uvnev.de
SUMMARY:Відкриття бібліотеки Української спілки Нижньої Саксонії
DESCRIPTION:Незабаром відкриється бібліотека Української спілки Нижньої Саксонії. Урочисте відкриття відбудеться 11 серпня 2022 року о 17:00 у освітньо-консультаційному центрі Спілки за адресою Podbielskistr. 269 30655 Hannover.Для отримання читацького квитка потрібно заздалегідь заповнити формуляр за посиланням або QR кодом: https://forms.gle/vSyesSYUypxpeK5v8Вартість оформлення – 5 євро як незначна застава за книги\, користування бібліотекою в подальшому безкоштовне. Дітям від 6 років потрібно оформляти власний читацький квиток. Чекаємо вас!
URL:https://uvnev.de/uk/veranstaltung/%d0%b2%d1%96%d0%b4%d0%ba%d1%80%d0%b8%d1%82%d1%82%d1%8f-%d0%b1%d1%96%d0%b1%d0%bb%d1%96%d0%be%d1%82%d0%b5%d0%ba%d0%b8-%d1%83%d0%ba%d1%80%d0%b0%d1%97%d0%bd%d1%81%d1%8c%d0%ba%d0%be%d1%97-%d1%81%d0%bf/
END:VEVENT
BEGIN:VEVENT
DTSTART;TZID=Europe/Berlin:20220810T081500
DTEND;TZID=Europe/Berlin:20220810T191500
DTSTAMP:20260425T212322
CREATED:20220809T190251Z
LAST-MODIFIED:20220809T190254Z
UID:11313-1660119300-1660158900@uvnev.de
SUMMARY:"В дорозі з Томасом": "Вгору до рисей"
DESCRIPTION:Пропонуємо чергову подорож із серії проєкту літніх подорожей Спілки “В дорозі з Томасом”: “Вгору до рисей” в середу 10.08.22. Ціль поїздок познайомити біженців з України з Нижньою Саксонією. Деталі подорожі на картинці! Гарної подорожі!
URL:https://uvnev.de/uk/veranstaltung/%d0%b2-%d0%b4%d0%be%d1%80%d0%be%d0%b7%d1%96-%d0%b7-%d1%82%d0%be%d0%bc%d0%b0%d1%81%d0%be%d0%bc-%d0%b2%d0%b3%d0%be%d1%80%d1%83-%d0%b4%d0%be-%d1%80%d0%b8%d1%81%d0%b5%d0%b9/
END:VEVENT
BEGIN:VEVENT
DTSTART;TZID=Europe/Berlin:20220808T110000
DTEND;TZID=Europe/Berlin:20220808T150000
DTSTAMP:20260425T212322
CREATED:20220728T160035Z
LAST-MODIFIED:20220728T161631Z
UID:11184-1659956400-1659970800@uvnev.de
SUMMARY:ДЕНЬ ЗДОРОВ‘Я В ГАННОВЕРІ 5.08 з 11:00 - 15:00
DESCRIPTION:ДЕНЬ ЗДОРОВ‘Я В ГАННОВЕРІДАТА: П‘ЯТНИЦЯ\, 05 СЕРПНЯ 2022 РОКУЧАС: 11:00 ДО 15:00МІСЦЕ: ЦЕНТР ПОДІЙ У VER.DI-HÖFENGoseriede 10\, 30159 HannoverЩо вас чекає:• Лекції про систему охорони здоров‘я та щеплення в Німеччині українською/російською мовами• Інформаційні стенди (організації та консультаційні центри з Ганновера представлять себе)• Інформація про послуги в сфері охорони здоров’я• Здорові закуски• Безкоштовні інформаційні матеріали про охорону здоров‘я в Німеччині• Можливість зробити щеплення COVID-19 Після цього учасники мають можливість задати питання\, обмінятися ідеями та поспілкуватися. \n\n\n\nDie Veranstaltung wird organisiert vom Ukrainischer Verein in Niedersachsen e.V. in Kooperation mit der Landesvereinigung für Gesundheit und Akademie für Sozialmedizin Niedersachsen e. V. .
URL:https://uvnev.de/uk/veranstaltung/%d0%b4%d0%b5%d0%bd%d1%8c-%d0%b7%d0%b4%d0%be%d1%80%d0%be%d0%b2%d1%8f-%d0%b2-%d0%b3%d0%b0%d0%bd%d0%bd%d0%be%d0%b2%d0%b5%d1%80%d1%96-5-08-%d0%b7-1100-1500/
END:VEVENT
BEGIN:VEVENT
DTSTART;TZID=Europe/Berlin:20220805T153000
DTEND;TZID=Europe/Berlin:20220805T180000
DTSTAMP:20260425T212322
CREATED:20220802T191300Z
LAST-MODIFIED:20220802T191302Z
UID:11294-1659713400-1659722400@uvnev.de
SUMMARY:Заповнення анкет в Jobcenter
DESCRIPTION:
URL:https://uvnev.de/uk/veranstaltung/%d0%b7%d0%b0%d0%bf%d0%be%d0%b2%d0%bd%d0%b5%d0%bd%d0%bd%d1%8f-%d0%b0%d0%bd%d0%ba%d0%b5%d1%82-%d0%b2-jobcenter/
END:VEVENT
BEGIN:VEVENT
DTSTART;TZID=Europe/Berlin:20220731T120000
DTEND;TZID=Europe/Berlin:20220731T130000
DTSTAMP:20260425T212322
CREATED:20220731T124436Z
LAST-MODIFIED:20220731T124438Z
UID:11247-1659268800-1659272400@uvnev.de
SUMMARY:Екскурсія виставкою «Елементарні частки» музею Sprengel Museum Hannover
DESCRIPTION:31.07.2022 в 12:00 – екскурсія виставкою «Елементарні частки» музею Sprengel Museum Hannover. Ювілейна виставка з нагоди 40-річчя музею містить провідні роботи колекції та створена таким чином\, що є прекрасним посібником для знайомства з сучасним мистецтвом найширших кіл глядачів. \n\n\n\nАдреса: Kurt-Schwitters-Platz 1\, 30169 Hannover \n\n\n\nМісце зустрічі: в холі музею
URL:https://uvnev.de/uk/veranstaltung/%d0%b5%d0%ba%d1%81%d0%ba%d1%83%d1%80%d1%81%d1%96%d1%8f-%d0%b2%d0%b8%d1%81%d1%82%d0%b0%d0%b2%d0%ba%d0%be%d1%8e-%d0%b5%d0%bb%d0%b5%d0%bc%d0%b5%d0%bd%d1%82%d0%b0%d1%80%d0%bd%d1%96-%d1%87%d0%b0/
END:VEVENT
BEGIN:VEVENT
DTSTART;TZID=Europe/Berlin:20220729T160000
DTEND;TZID=Europe/Berlin:20220729T170000
DTSTAMP:20260425T212322
CREATED:20220731T124324Z
LAST-MODIFIED:20220731T124628Z
UID:11246-1659110400-1659114000@uvnev.de
SUMMARY:Еекскурсія по виставці «that other world\, the world of the teaport. tenderness\, a model».
DESCRIPTION:⚡ 29.07.2022 в 16:00 серію відкриває екскурсія по виставці «that other world\, the world of the teaport. tenderness\, a model» Kestner Geselltschaft. \n\n\n\nЕкспозиція об’єднала твори 44 представників сучасного мистецтва та роботи з музейних колекцій навколо феномена ніжності\, як можливого шляху порятунку в ненадійні часи роз’єднання та недовіри. \n\n\n\nАдреса: Goseriede 11\, 30159 Hannover \n\n\n\nМісце зустрічі: в холі
URL:https://uvnev.de/uk/veranstaltung/that-other-world-the-world-of-the-teaport-tenderness-a-model/
END:VEVENT
BEGIN:VEVENT
DTSTART;TZID=Europe/Berlin:20220720T090000
DTEND;TZID=Europe/Berlin:20220720T140000
DTSTAMP:20260425T212322
CREATED:20220705T205235Z
LAST-MODIFIED:20220705T205911Z
UID:10978-1658307600-1658325600@uvnev.de
SUMMARY:Запрошення на форум ринку праці для біженців з України
DESCRIPTION:
URL:https://uvnev.de/uk/veranstaltung/%d0%b7%d0%b0%d0%bf%d1%80%d0%be%d1%88%d0%b5%d0%bd%d0%bd%d1%8f-%d0%bd%d0%b0-%d1%84%d0%be%d1%80%d1%83%d0%bc-%d1%80%d0%b8%d0%bd%d0%ba%d1%83-%d0%bf%d1%80%d0%b0%d1%86%d1%96-%d0%b4%d0%bb%d1%8f-%d0%b1%d1%96/
END:VEVENT
BEGIN:VEVENT
DTSTART;TZID=Europe/Berlin:20220719T100000
DTEND;TZID=Europe/Berlin:20220719T120000
DTSTAMP:20260425T212322
CREATED:20220713T192051Z
LAST-MODIFIED:20220713T192221Z
UID:11101-1658224800-1658232000@uvnev.de
SUMMARY:Мовний клуб німецькою для підлітків.
DESCRIPTION:З 19.07.2022. Реєстрація обов’язкова. Одноразовий внесок 5€
URL:https://uvnev.de/uk/veranstaltung/%d0%bc%d0%be%d0%b2%d0%bd%d0%b8%d0%b9-%d0%ba%d0%bb%d1%83%d0%b1-%d0%bd%d1%96%d0%bc%d0%b5%d1%86%d1%8c%d0%ba%d0%be%d1%8e-%d0%b4%d0%bb%d1%8f-%d0%bf%d1%96%d0%b4%d0%bb%d1%96%d1%82%d0%ba%d1%96%d0%b2/
END:VEVENT
BEGIN:VEVENT
DTSTART;TZID=Europe/Berlin:20220718T100000
DTEND;TZID=Europe/Berlin:20220718T100000
DTSTAMP:20260425T212322
CREATED:20220710T225333Z
LAST-MODIFIED:20220713T185702Z
UID:11052-1658138400-1658138400@uvnev.de
SUMMARY:Ласкаво просимо до Хогвартсу!
DESCRIPTION:Тобі від 11 до 14 років? Ти захоплюєшся світом магії? Мрієш про школу чарівників? Тоді не проґав чудовий квест «Ласкаво просимо до Хогвартсу!» \n\n\n\nПід час квесту ми поринемо у світ пригод і магії школи чарівників «Хогвартс». \n\n\n\nДе: Nordstadtbibliothek\, Engelbosteler Damm 57 \n\n\n\nДля безкоштовної участі в JULIUS CLUB зв’яжися та зареєструйся: \n\n\n\nЮлія Майстренко     \n\n\n\nТелефон: +4915906328871  \n\n\n\nE-Mail: yukobastet@gmail.com  \n\n\n\nДля зв’язку по WhatsApp
URL:https://uvnev.de/uk/veranstaltung/welcome-to-hogwarts/
END:VEVENT
BEGIN:VEVENT
DTSTART;TZID=Europe/Berlin:20220713T113000
DTEND;TZID=Europe/Berlin:20220713T123000
DTSTAMP:20260425T212322
CREATED:20220711T120027Z
LAST-MODIFIED:20220711T120029Z
UID:11069-1657711800-1657715400@uvnev.de
SUMMARY:Cемінар для батьків "Шкільна система Нижньої Саксонії"
DESCRIPTION:Запрошуємо на cемінар для батьків “Шкільна система Нижньої Саксонії”. Від пройде 13.07.2022 з 11:30-12:30 в приміщенні Української Спілки Нижньої Саксонії\, Podbielskistrasse 269\, 30655 Hannover.Часто буває непросто зрозуміти\, як працює школа в Німеччині\, що потрібно враховувати та які відмінності існують у шкільній системі у в Україні. Наприклад\, чи має дитина право на навчання рідною мовою? В інформаційному заході ми хотіли б надати вам детальну інформацію. У вас буде можливість ставити питання. Семінар буде проведений російською мовою. Референтка Інна Зенн працює в асоціації батьківських мігрантських комітетів Нижньої Саксонії та вже декілька років дає семінари на тему шкільної системи. Участь безкоштовна. Реєстрація: https://bit.ly/3ysP5W0Будемо раді зустрічі з вами!
URL:https://uvnev.de/uk/veranstaltung/c%d0%b5%d0%bc%d1%96%d0%bd%d0%b0%d1%80-%d0%b4%d0%bb%d1%8f-%d0%b1%d0%b0%d1%82%d1%8c%d0%ba%d1%96%d0%b2-%d1%88%d0%ba%d1%96%d0%bb%d1%8c%d0%bd%d0%b0-%d1%81%d0%b8%d1%81%d1%82%d0%b5%d0%bc%d0%b0-%d0%bd%d0%b8/
END:VEVENT
BEGIN:VEVENT
DTSTART;TZID=Europe/Berlin:20220710T080000
DTEND;TZID=Europe/Berlin:20220710T170000
DTSTAMP:20260425T212322
CREATED:20220710T193128Z
LAST-MODIFIED:20220710T193130Z
UID:11023-1657440000-1657472400@uvnev.de
SUMMARY:Дитяча група з Оксаною Рабіною (3-5 років)
DESCRIPTION:Українська Спілка та Оксана Рабіна пропонують дітям від 3 до 5 років ігрові заняття.Казки\, рухливі ігри\, пальчикова гімнастика\, ігри на знайомство\, поробка до казки. Ваші діти будуть щасливими та зможуть порадувати Вас своїми знаннями. \n\n\n\nЗ понеділка по четверг 10:00-11:00 \n\n\n\nРеєстрація: https://cutt.ly/aLypsii
URL:https://uvnev.de/uk/veranstaltung/%d0%b4%d0%b8%d1%82%d1%8f%d1%87%d0%b0-%d0%b3%d1%80%d1%83%d0%bf%d0%b0-%d0%b7-%d0%be%d0%ba%d1%81%d0%b0%d0%bd%d0%be%d1%8e-%d1%80%d0%b0%d0%b1%d1%96%d0%bd%d0%be%d1%8e-3-5-%d1%80%d0%be%d0%ba%d1%96%d0%b2/
END:VEVENT
BEGIN:VEVENT
DTSTART;TZID=Europe/Berlin:20220708T090000
DTEND;TZID=Europe/Berlin:20220708T120000
DTSTAMP:20260425T212322
CREATED:20220615T205638Z
LAST-MODIFIED:20220615T210130Z
UID:10773-1657270800-1657281600@uvnev.de
SUMMARY:Зустріч викладачів\, працівників дошкільної освіти та усіх бажаючих осіб з України
DESCRIPTION:Вас цікавить робота в дитячому садочку в регіоні Ганновер? Ми будемо радіпроінформувати Вас!Детальніше тут:Ласкаво-просимо-в-систему-дошкільної-освіти-регіону-Ганновер.pdf
URL:https://uvnev.de/uk/veranstaltung/meeting-of-teachers/
END:VEVENT
BEGIN:VEVENT
DTSTART;TZID=Europe/Berlin:20220705T180000
DTEND;TZID=Europe/Berlin:20220705T200000
DTSTAMP:20260425T212322
CREATED:20220702T095531Z
LAST-MODIFIED:20220702T095905Z
UID:10934-1657044000-1657051200@uvnev.de
SUMMARY:Правова та практична інформація для біженців з України
DESCRIPTION:Після незаконного нападу Росії на Україну багатьом людям довелося залишини домівки і приїхати в томучислі і до Ганновера. Це породжує низку питань\, які ми розглядаємо в серії наших заходів. \n\n\n\nЦей онлайн-захід присвячується темі школа. Правові положення та найважливіша інформація\, а такожособливості шкільної системи Нижньої Саксонії представить шкільний відділ столиці Ганновера длябіженців з України. Потім вчителі поділяться практичною інформацією. Ця частина буде представленаукраїнською мовою (слайди німецькою) і розрахована на українців. \n\n\n\nПісля цього учасники мають можливість задати питання\, обмінятися ідеями та поспілкуватися. \n\n\n\nЦільова аудиторія: Цей інформаційний захід орієнтований на волонтерів\, які підтримують українців тана самих українців. \n\n\n\nЧас і місце: вівторок\, 12 липня 2022 р.\, 18:00 – 20:00 – онлайн через zoom – посилання після реєстрації \n\n\n\nРеєстрація за посиланням або через QR-кодhttps://tinyurl.com/2rzse9td
URL:https://uvnev.de/uk/veranstaltung/%d0%bf%d1%80%d0%b0%d0%b2%d0%be%d0%b2%d0%b0-%d1%82%d0%b0-%d0%bf%d1%80%d0%b0%d0%ba%d1%82%d0%b8%d1%87%d0%bd%d0%b0-%d1%96%d0%bd%d1%84%d0%be%d1%80%d0%bc%d0%b0%d1%86%d1%96%d1%8f-%d0%b4%d0%bb%d1%8f-%d0%b1/
END:VEVENT
BEGIN:VEVENT
DTSTART;TZID=Europe/Berlin:20220702T100000
DTEND;TZID=Europe/Berlin:20220702T120000
DTSTAMP:20260425T212322
CREATED:20220702T083605Z
LAST-MODIFIED:20220702T083837Z
UID:10880-1656756000-1656763200@uvnev.de
SUMMARY:Майстер-клас з Петриківського розпису
DESCRIPTION:Запрошуємо на майстер-клас з Петриківського розпису з Наталею Кириченко.Ви навчатиметеся технікам стародавнього розпису\, виготовите гарний малюнок\, який ви зможете взяти з собою.Коли?: Субота\, 10-12 год.Де? Українська Спілка Нижньої СаксоніїРеєстрація:https://bit.ly/3bpcIqp або за QR-кодом за кодом на картинці
URL:https://uvnev.de/uk/veranstaltung/master-class-on-petrykiv-painting/
END:VEVENT
BEGIN:VEVENT
DTSTART;TZID=Europe/Berlin:20220621T103000
DTEND;TZID=Europe/Berlin:20220621T111500
DTSTAMP:20260425T212322
CREATED:20220607T200219Z
LAST-MODIFIED:20220607T201613Z
UID:10640-1655807400-1655810100@uvnev.de
SUMMARY:Музичні заняття для дітей від 4 до 7 років.
DESCRIPTION:Музичні заняття для дітей від 4 до 7 років “Ми творимо музику!”\, “Wir machen Musik”.Музика\, танець і рух!Дата заняття: 21 червняЧас занять: 10:30 – 11:15Викладачі: студентки HMTMHАдреса: Podbielskistraße 269\, 30655 Hannover \n\n\n\nПосилання на реєстрацію: https://bit.ly/3mJKOYo
URL:https://uvnev.de/uk/veranstaltung/%d0%bc%d1%83%d0%b7%d0%b8%d1%87%d0%bd%d1%96-%d0%b7%d0%b0%d0%bd%d1%8f%d1%82%d1%82%d1%8f-%d0%b4%d0%bb%d1%8f-%d0%b4%d1%96%d1%82%d0%b5%d0%b9-%d0%b2%d1%96%d0%b4-4-%d0%b4%d0%be-7-%d1%80%d0%be%d0%ba%d1%96-3/
END:VEVENT
BEGIN:VEVENT
DTSTART;TZID=Europe/Berlin:20220619T133000
DTEND;TZID=Europe/Berlin:20220619T143000
DTSTAMP:20260425T212322
CREATED:20220607T200828Z
LAST-MODIFIED:20220607T201635Z
UID:10647-1655645400-1655649000@uvnev.de
SUMMARY:Догляд за новонародженим.
DESCRIPTION:📍Організатор: Українська Спілка Нижньої Саксонії.📍Коли: \n\n\n\n17.06.2022 о 15:00 — Успішні пологи та усвідомлене материнство в Німеччині18.06.2022 о 13:30 — Підготовка до грудного вигодовування19.06.2022 о 13:30 — Догляд за новонародженим \n\n\n\n📍Місце зустрічі: Офіс Спілки\, Podbielskistrasse 269\, 30655 Hannover📍Ціна: Безкоштовно.📍Тривалість: 2-3 години.📍Опис: Зустрічі проведуть лікар-гінеколог Ірина Корольова\, м. Ганновер та сертифiкований спеціаліст по грудному вигодовуванню Аліса Кисельова\, м. Харків. \n\n\n\nПосилання на реєстрацію: https://bit.ly/3mJKOYo
URL:https://uvnev.de/uk/veranstaltung/%d0%b4%d0%be%d0%b3%d0%bb%d1%8f%d0%b4-%d0%b7%d0%b0-%d0%bd%d0%be%d0%b2%d0%be%d0%bd%d0%b0%d1%80%d0%be%d0%b4%d0%b6%d0%b5%d0%bd%d0%b8%d0%bc/
END:VEVENT
BEGIN:VEVENT
DTSTART;TZID=Europe/Berlin:20220618T133000
DTEND;TZID=Europe/Berlin:20220618T143000
DTSTAMP:20260425T212322
CREATED:20220607T200801Z
LAST-MODIFIED:20220607T201359Z
UID:10646-1655559000-1655562600@uvnev.de
SUMMARY:Підготовка до грудного вигодовування
DESCRIPTION:📍Організатор: Українська Спілка Нижньої Саксонії.📍Коли: \n\n\n\n17.06.2022 о 15:00 — Успішні пологи та усвідомлене материнство в Німеччині18.06.2022 о 13:30 — Підготовка до грудного вигодовування19.06.2022 о 13:30 — Догляд за новонародженим \n\n\n\n📍Місце зустрічі: Офіс Спілки\, Podbielskistrasse 269\, 30655 Hannover📍Ціна: Безкоштовно.📍Тривалість: 2-3 години.📍Опис: Зустрічі проведуть лікар-гінеколог Ірина Корольова\, м. Ганновер та сертифiкований спеціаліст по грудному вигодовуванню Аліса Кисельова\, м. Харків. \n\n\n\nПосилання на реєстрацію: https://bit.ly/3mJKOYo
URL:https://uvnev.de/uk/veranstaltung/%d0%bf%d1%96%d0%b4%d0%b3%d0%be%d1%82%d0%be%d0%b2%d0%ba%d0%b0-%d0%b4%d0%be-%d0%b3%d1%80%d1%83%d0%b4%d0%bd%d0%be%d0%b3%d0%be-%d0%b2%d0%b8%d0%b3%d0%be%d0%b4%d0%be%d0%b2%d1%83%d0%b2%d0%b0%d0%bd%d0%bd/
END:VEVENT
BEGIN:VEVENT
DTSTART;TZID=Europe/Berlin:20220617T150000
DTEND;TZID=Europe/Berlin:20220617T160000
DTSTAMP:20260425T212322
CREATED:20220607T200636Z
LAST-MODIFIED:20220607T201651Z
UID:10645-1655478000-1655481600@uvnev.de
SUMMARY:Успішні пологи та усвідомлене материнство в Німеччині.
DESCRIPTION:Українська Спілка Нижньої Саксонії запускає серію безкоштовних тематичних зустрічей для майбутніх мам по п’ятницям. \n\n\n\n📍Організатор: Українська Спілка Нижньої Саксонії.📍Коли: \n\n\n\n17.06.2022 о 15:00 — Успішні пологи та усвідомлене материнство в Німеччині18.06.2022 о 13:30 — Підготовка до грудного вигодовування19.06.2022 о 13:30 — Догляд за новонародженим \n\n\n\n📍Місце зустрічі: Офіс Спілки\, Podbielskistrasse 269\, 30655 Hannover📍Ціна: Безкоштовно.📍Тривалість: 2-3 години.📍Опис: Зустрічі проведуть лікар-гінеколог Ірина Корольова\, м. Ганновер та сертифiкований спеціаліст по грудному вигодовуванню Аліса Кисельова\, м. Харків. \n\n\n\nПосилання на реєстрацію: https://bit.ly/3mJKOYo
URL:https://uvnev.de/uk/veranstaltung/%d1%83%d1%81%d0%bf%d1%96%d1%88%d0%bd%d1%96-%d0%bf%d0%be%d0%bb%d0%be%d0%b3%d0%b8-%d1%82%d0%b0-%d1%83%d1%81%d0%b2%d1%96%d0%b4%d0%be%d0%bc%d0%bb%d0%b5%d0%bd%d0%b5-%d0%bc%d0%b0%d1%82%d0%b5%d1%80%d0%b8/
END:VEVENT
BEGIN:VEVENT
DTSTART;TZID=Europe/Berlin:20220614T103000
DTEND;TZID=Europe/Berlin:20220614T111500
DTSTAMP:20260425T212322
CREATED:20220607T200159Z
LAST-MODIFIED:20220607T200316Z
UID:10639-1655202600-1655205300@uvnev.de
SUMMARY:Музичні заняття для дітей від 4 до 7 років.
DESCRIPTION:Музичні заняття для дітей від 4 до 7 років “Ми творимо музику!”\, “Wir machen Musik”.Музика\, танець і рух!Дата заняття: 14 червняЧас занять: 10:30 – 11:15Викладачі: студентки HMTMHАдреса: Podbielskistraße 269\, 30655 Hannover
URL:https://uvnev.de/uk/veranstaltung/%d0%bc%d1%83%d0%b7%d0%b8%d1%87%d0%bd%d1%96-%d0%b7%d0%b0%d0%bd%d1%8f%d1%82%d1%82%d1%8f-%d0%b4%d0%bb%d1%8f-%d0%b4%d1%96%d1%82%d0%b5%d0%b9-%d0%b2%d1%96%d0%b4-4-%d0%b4%d0%be-7-%d1%80%d0%be%d0%ba%d1%96-2/
END:VEVENT
BEGIN:VEVENT
DTSTART;TZID=Europe/Berlin:20220613T153000
DTEND;TZID=Europe/Berlin:20220613T170000
DTSTAMP:20260425T212322
CREATED:20220607T195654Z
LAST-MODIFIED:20220607T201715Z
UID:10634-1655134200-1655139600@uvnev.de
SUMMARY:Українська Спілка Нижньої Саксонії запускає набір на дитячі та підліткові хори.
DESCRIPTION:Українська Спілка Нижньої Саксонії запускає набір на дитячі та підліткові хори.   \n\n\n\n📍Організатор: Українська Спілка Нижньої Саксонії.📍Коли:Група 1: 5-7 р. пн 15:30Група 2: 8-10 р. пн 16:00Група 3: 11-17 р. пн 16:40Група 4: 11-17 р. пт 16-17:00Початок занять 13.06.2022 \n\n\n\n📍Місце зустрічі: Офіс Спілки\, Podbielskistrasse 269\, 30655 Hannover📍Ціна: Безкоштовно.📍Тривалість: 30 хвилин – макс. 1 година в залежності від віку дітей.📍Опис: \n\n\n\nВикладачка по понеділкам: Людмила Кун (керівничка українського хору “Калина” м. Ганновер)Викладачка по п’ятницям: Наталія Костянова керівничка українського хору “Калина” м. Ганновер \n\n\n\nПосилання на реєстрацію: https://bit.ly/3mJKOYo
URL:https://uvnev.de/uk/veranstaltung/%d1%83%d0%ba%d1%80%d0%b0%d1%97%d0%bd%d1%81%d1%8c%d0%ba%d0%b0-%d1%81%d0%bf%d1%96%d0%bb%d0%ba%d0%b0-%d0%bd%d0%b8%d0%b6%d0%bd%d1%8c%d0%be%d1%97-%d1%81%d0%b0%d0%ba%d1%81%d0%be%d0%bd%d1%96%d1%97-%d0%b7/
END:VEVENT
BEGIN:VEVENT
DTSTART;TZID=Europe/Berlin:20220610T153000
DTEND;TZID=Europe/Berlin:20220610T183000
DTSTAMP:20260425T212322
CREATED:20220607T194757Z
LAST-MODIFIED:20220607T202004Z
UID:10627-1654875000-1654885800@uvnev.de
SUMMARY:Заповнення формулярів для центру зайнятості в групах (кімната 10).
DESCRIPTION:Українська Спілка Нижньої Саксонії запускає серію безкоштовних тематичних зустрічей для майбутніх мам по п’ятницям.📍Організатор: Українська Спілка Нижньої Саксонії.📍Коли: \n\n\n\n10.06.22: 15:30-18:30 год. кімната 10 \n\n\n\n📍Місце зустрічі: Офіс Спілки\, Podbielskistrasse 269\, 30655 Hannover📍Ціна: Безкоштовно.📍Тривалість: 2-3 години.📍Опис: Зустрічі проведуть консультанти нашої Спілки. \n\n\n\nПосилання на реєстрацію: https://bit.ly/3mJKOYo
URL:https://uvnev.de/uk/veranstaltung/%d0%b7%d0%b0%d0%bf%d0%be%d0%b2%d0%bd%d0%b5%d0%bd%d0%bd%d1%8f-%d1%84%d0%be%d1%80%d0%bc%d1%83%d0%bb%d1%8f%d1%80%d1%96%d0%b2-%d0%b4%d0%bb%d1%8f-%d1%86%d0%b5%d0%bd%d1%82%d1%80%d1%83-%d0%b7%d0%b0%d0%b9-3/
END:VEVENT
BEGIN:VEVENT
DTSTART;TZID=Europe/Berlin:20220610T150000
DTEND;TZID=Europe/Berlin:20220610T173000
DTSTAMP:20260425T212322
CREATED:20220607T194338Z
LAST-MODIFIED:20220607T202011Z
UID:10624-1654873200-1654882200@uvnev.de
SUMMARY:Заповнення формулярів для центру зайнятості в групах (кімната 11).
DESCRIPTION:Українська Спілка Нижньої Саксонії запускає серію безкоштовних тематичних зустрічей для майбутніх мам по п’ятницям.📍Організатор: Українська Спілка Нижньої Саксонії.📍Коли: \n\n\n\n10.06.22: 15-17:30 год. кімната 11 \n\n\n\n📍Місце зустрічі: Офіс Спілки\, Podbielskistrasse 269\, 30655 Hannover📍Ціна: Безкоштовно.📍Тривалість: 2-3 години.📍Опис: Зустрічі проведуть консультанти нашої Спілки. \n\n\n\nПосилання на реєстрацію: https://bit.ly/3mJKOYo
URL:https://uvnev.de/uk/veranstaltung/%d0%b7%d0%b0%d0%bf%d0%be%d0%b2%d0%bd%d0%b5%d0%bd%d0%bd%d1%8f-%d1%84%d0%be%d1%80%d0%bc%d1%83%d0%bb%d1%8f%d1%80%d1%96%d0%b2-%d0%b4%d0%bb%d1%8f-%d1%86%d0%b5%d0%bd%d1%82%d1%80%d1%83-%d0%b7%d0%b0%d0%b9-2/
END:VEVENT
BEGIN:VEVENT
DTSTART;TZID=Europe/Berlin:20220610T000000
DTEND;TZID=Europe/Berlin:20220612T235959
DTSTAMP:20260425T212322
CREATED:20220607T185613Z
LAST-MODIFIED:20220607T195105Z
UID:10577-1654819200-1655078399@uvnev.de
SUMMARY:Дні Нижньої Саксонії
DESCRIPTION:10.06.2022-12.02.2022 Спілка братиме офіційну участь в Днях Нижньої Саксонії (Tag der Niedersachsen)\, на якому будуть представлені громадські та соціальні організації\, які допомагають людям у різних життєвих ситуаціях.Ми матимемо стенд (номер 640) і зможемо поводити консультації на місці. Тому в ці дні\, за потребою у допомозі і консультаціях ви можете звертатися до нашого стенда.Адреса: Culemannstraße 1\, 30169 Hannover (Стенд 640 буде знаходитися орієнтовно між озером (Maschteich) за Новою ратушею (Neues Rathaus) та та біля перехрестя навпроти великого озера Maschsee.
URL:https://uvnev.de/uk/veranstaltung/days-of-lower-saxony/
END:VEVENT
BEGIN:VEVENT
DTSTART;TZID=Europe/Berlin:20220609T150000
DTEND;TZID=Europe/Berlin:20220609T173000
DTSTAMP:20260425T212322
CREATED:20220607T194159Z
LAST-MODIFIED:20220607T202039Z
UID:10622-1654786800-1654795800@uvnev.de
SUMMARY:Заповнення формулярів для центру зайнятості в групах.
DESCRIPTION:Українська Спілка Нижньої Саксонії запускає серію безкоштовних тематичних зустрічей для майбутніх мам по п’ятницям.📍Організатор: Українська Спілка Нижньої Саксонії.📍Коли: \n\n\n\n09.06.22: 15-17:30 год. кімната 11 \n\n\n\n📍Місце зустрічі: Офіс Спілки\, Podbielskistrasse 269\, 30655 Hannover📍Ціна: Безкоштовно.📍Тривалість: 2-3 години.📍Опис: Зустрічі проведуть консультанти нашої Спілки. \n\n\n\nПосилання на реєстрацію: https://bit.ly/3mJKOYo
URL:https://uvnev.de/uk/veranstaltung/%d0%b7%d0%b0%d0%bf%d0%be%d0%b2%d0%bd%d0%b5%d0%bd%d0%bd%d1%8f-%d1%84%d0%be%d1%80%d0%bc%d1%83%d0%bb%d1%8f%d1%80%d1%96%d0%b2-%d0%b4%d0%bb%d1%8f-%d1%86%d0%b5%d0%bd%d1%82%d1%80%d1%83-%d0%b7%d0%b0%d0%b9/
END:VEVENT
BEGIN:VEVENT
DTSTART;TZID=Europe/Berlin:20220607T103000
DTEND;TZID=Europe/Berlin:20220607T111500
DTSTAMP:20260425T212322
CREATED:20220607T195955Z
LAST-MODIFIED:20220607T195958Z
UID:10637-1654597800-1654600500@uvnev.de
SUMMARY:Музичні заняття для дітей від 4 до 7 років.
DESCRIPTION:Музичні заняття для дітей від 4 до 7 років “Ми творимо музику!”\, “Wir machen Musik”.Музика\, танець і рух!Дати занять: 07\, 14\, 21 червняЧас занять: 10:30 – 11:15Викладачі: студентки HMTMHАдреса: Podbielskistraße 269\, 30655 Hannover
URL:https://uvnev.de/uk/veranstaltung/%d0%bc%d1%83%d0%b7%d0%b8%d1%87%d0%bd%d1%96-%d0%b7%d0%b0%d0%bd%d1%8f%d1%82%d1%82%d1%8f-%d0%b4%d0%bb%d1%8f-%d0%b4%d1%96%d1%82%d0%b5%d0%b9-%d0%b2%d1%96%d0%b4-4-%d0%b4%d0%be-7-%d1%80%d0%be%d0%ba%d1%96/
END:VEVENT
BEGIN:VEVENT
DTSTART;TZID=Europe/Berlin:20220602T170000
DTEND;TZID=Europe/Berlin:20220602T190000
DTSTAMP:20260425T212322
CREATED:20220516T225020Z
LAST-MODIFIED:20220516T225528Z
UID:10115-1654189200-1654196400@uvnev.de
SUMMARY:Zoom-Конференція: ТАБЕЛІ ТА ОЦІНКИ
DESCRIPTION:Дата: 02.06.2022Час: 17:00 – 19:00Доповідач: пані Мартіна Гансен\, migranetzДе: Zoom-КонференціяІдентифікатор зустрічі: 882 7573 2857Код: 328809https://us02web.zoom.us/j/88275732857?pwd=REdnZU45blEwUGNxb3Nsd1ZVTlExQT09 \n\n\n\n \n\n\n\nДорогі батьки\, шановні пані та панове\, друзі MigrantenElternNetzwerk Niedersachsen!Табелі та оцінки вирішують питання про перехід до наступного класу\, а також впливають наподальший життєвий шлях. Вони показують батькам\, як школа оцінює їхню дитину. Іноді цепропонує сюрпризи – як позитивні\, так і негативні. \n\n\n\nЩо таке “оцінки в умі” (Kopfnoten)? Як вчителі виставляють оцінки? Як оцінюється усна таписьмова участь?Мартіна Гансен\, вчителька середньої школи на півдні Нижньої Саксонії та регіональнийпредставник migranetz\, інформує батьків про табелі (атестати) та оцінки та відповідає на вашізапитання.Ми щиро запрошуємо вас на нашу zoom- конференцію\, на вас чекає цікава інформація та живадискусія! Переклад та спілкування пропонуються також арабською та українською мовами.Якщо у вас виникнуть запитання\, ми будемо раді відповісти на них за адресою:inna.senn@amfn.de або за телефоном: 0511 921 51 06 \n\n\n\nСкачати флаєр
URL:https://uvnev.de/uk/veranstaltung/zoom-%d0%ba%d0%be%d0%bd%d1%84%d0%b5%d1%80%d0%b5%d0%bd%d1%86%d1%96%d1%8f-%d1%82%d0%b0%d0%b1%d0%b5%d0%bb%d1%96-%d1%82%d0%b0-%d0%be%d1%86%d1%96%d0%bd%d0%ba%d0%b8/
END:VEVENT
BEGIN:VEVENT
DTSTART;TZID=Europe/Berlin:20220520T170000
DTEND;TZID=Europe/Berlin:20220520T203000
DTSTAMP:20260425T212322
CREATED:20211111T111825Z
LAST-MODIFIED:20211111T111825Z
UID:8232-1653066000-1653078600@uvnev.de
SUMMARY:Карвінг по фруктам та овочам - майстерня карвінгу I
DESCRIPTION:Захід у співпраці з Католицьким центром сімейної освіти в Ганновері.\nДодаткова інформація та реєстрація: https://www.kath-fabi-hannover.de/nc/programm/kurs/Obst-+und+Gemueseschnitzen+-+Carving+Workshop+I/nr/22B7218/bereich/details/
URL:https://uvnev.de/uk/veranstaltung/%d0%ba%d0%b0%d1%80%d0%b2%d1%96%d0%bd%d0%b3-%d0%bf%d0%be-%d1%84%d1%80%d1%83%d0%ba%d1%82%d0%b0%d0%bc-%d1%82%d0%b0-%d0%be%d0%b2%d0%be%d1%87%d0%b0%d0%bc-%d0%bc%d0%b0%d0%b9%d1%81%d1%82%d0%b5%d1%80%d0%bd/
LOCATION:Katholische FABI Hannover\, Goethestr. 31\, Hannover\, 30169
END:VEVENT
BEGIN:VEVENT
DTSTART;TZID=Europe/Berlin:20220520T150000
DTEND;TZID=Europe/Berlin:20220520T170000
DTSTAMP:20260425T212322
CREATED:20220512T222719Z
LAST-MODIFIED:20220512T223350Z
UID:10061-1653058800-1653066000@uvnev.de
SUMMARY:Ласкаво просимо митців з України.
DESCRIPTION:Українська Спілка Нижньої Саксонії\, відділ міжнародної культури Бюро Культури міста Ганновер та Musikland Niedersachsen (Музична країна Нижня Саксонія) щиро запрошують вас на спільний захід для привітання новоприбулих митців та працівників культури з України в Ганновері\, а також для обміну корисною інформацією щодо фінансування\, співпраці з місцевими мережами та можливостей консультацій в рамках ініціативи Welcome Artists (Ласкаво Просимо Митців) і нещодавно створеного контактного пункту для українських музикантів при Musikland Niedersachsen. Німецько-український переклад заходу здійснює Українська Спілка Нижньої Саксонії.
URL:https://uvnev.de/uk/veranstaltung/%d0%bb%d0%b0%d1%81%d0%ba%d0%b0%d0%b2%d0%be-%d0%bf%d1%80%d0%be%d1%81%d0%b8%d0%bc%d0%be-%d0%bc%d0%b8%d1%82%d1%86%d1%96%d0%b2-%d0%b7-%d1%83%d0%ba%d1%80%d0%b0%d1%97%d0%bd%d0%b8/
END:VEVENT
BEGIN:VEVENT
DTSTART;TZID=Europe/Berlin:20220519T170000
DTEND;TZID=Europe/Berlin:20220519T190000
DTSTAMP:20260425T212322
CREATED:20220516T222456Z
LAST-MODIFIED:20220516T222906Z
UID:10094-1652979600-1652986800@uvnev.de
SUMMARY:Дитяче Свято Вишиванки
DESCRIPTION:Привіт! Українська Спілка Нижньої Саксонії пропонує 19.05.22 з 17 до 19:00 дитяче Свято Вишиванки в приміщенні офісу спілки. Запрошуємо всіх бажаючих на цікаву подію з майстеркласом\, частуванням та сюрпризами. Реєстрація за QR-кодом. До зустрічі
URL:https://uvnev.de/uk/veranstaltung/kinderstickereifest/
END:VEVENT
BEGIN:VEVENT
DTSTART;TZID=Europe/Berlin:20220507T180000
DTEND;TZID=Europe/Berlin:20220507T214500
DTSTAMP:20260425T212322
CREATED:20211111T111228Z
LAST-MODIFIED:20211111T111228Z
UID:8227-1651946400-1651959900@uvnev.de
SUMMARY:Продуктовий букет до Дня матері - майстерня харчової флористики
DESCRIPTION:Захід у співпраці з Католицьким центром сімейної освіти в Ганновері.\nДодаткова інформація та реєстрація: https://www.kath-fabi-hannover.de/nc/programm/kurs/Food-Bouquet+fuer+den+Muttertag+-+Foodfloristik-Workshop/nr/22B7214/bereich/details/
URL:https://uvnev.de/uk/veranstaltung/%d0%bf%d1%80%d0%be%d0%b4%d1%83%d0%ba%d1%82%d0%be%d0%b2%d0%b8%d0%b9-%d0%b1%d1%83%d0%ba%d0%b5%d1%82-%d0%b4%d0%be-%d0%b4%d0%bd%d1%8f-%d0%bc%d0%b0%d1%82%d0%b5%d1%80%d1%96-%d0%bc%d0%b0%d0%b9%d1%81%d1%82/
LOCATION:Katholische FABI Hannover\, Goethestr. 31\, Hannover\, 30169
END:VEVENT
END:VCALENDAR