BEGIN:VCALENDAR
VERSION:2.0
PRODID:-//UVNEV - ECPv6.2.6//NONSGML v1.0//EN
CALSCALE:GREGORIAN
METHOD:PUBLISH
X-WR-CALNAME:UVNEV
X-ORIGINAL-URL:https://uvnev.de/uk/
X-WR-CALDESC:Events for UVNEV
REFRESH-INTERVAL;VALUE=DURATION:PT1H
X-Robots-Tag:noindex
X-PUBLISHED-TTL:PT1H
BEGIN:VTIMEZONE
TZID:Europe/Berlin
BEGIN:DAYLIGHT
TZOFFSETFROM:+0100
TZOFFSETTO:+0200
TZNAME:CEST
DTSTART:20230326T010000
END:DAYLIGHT
BEGIN:STANDARD
TZOFFSETFROM:+0200
TZOFFSETTO:+0100
TZNAME:CET
DTSTART:20231029T010000
END:STANDARD
BEGIN:DAYLIGHT
TZOFFSETFROM:+0100
TZOFFSETTO:+0200
TZNAME:CEST
DTSTART:20240331T010000
END:DAYLIGHT
BEGIN:STANDARD
TZOFFSETFROM:+0200
TZOFFSETTO:+0100
TZNAME:CET
DTSTART:20241027T010000
END:STANDARD
BEGIN:DAYLIGHT
TZOFFSETFROM:+0100
TZOFFSETTO:+0200
TZNAME:CEST
DTSTART:20250330T010000
END:DAYLIGHT
BEGIN:STANDARD
TZOFFSETFROM:+0200
TZOFFSETTO:+0100
TZNAME:CET
DTSTART:20251026T010000
END:STANDARD
END:VTIMEZONE
BEGIN:VEVENT
DTSTART;TZID=Europe/Berlin:20251204T160000
DTEND;TZID=Europe/Berlin:20251204T180000
DTSTAMP:20260425T145200
CREATED:20251203T154940Z
LAST-MODIFIED:20251203T154942Z
UID:18420-1764864000-1764871200@uvnev.de
SUMMARY:Запрошуємо на Різдвяну Майстерню для дітей та молоді!
DESCRIPTION:Шукаєте святкову активність для ваших малюків? Приєднуйтесь до нас і разом поринемо в атмосферу магії Різдва! Українська Спілка Нижньої Саксонії\, кухня\, 1 поверх. \n\n\n\nЗаписуйтеся зараз і робіть Різдво ще яскравішим https://widgets.yolawo.de/w/0/offers/692d5512344df29122ca8e49?t=1764590680169!
URL:https://uvnev.de/uk/veranstaltung/%d0%b7%d0%b0%d0%bf%d1%80%d0%be%d1%88%d1%83%d1%94%d0%bc%d0%be-%d0%bd%d0%b0-%d1%80%d1%96%d0%b7%d0%b4%d0%b2%d1%8f%d0%bd%d1%83-%d0%bc%d0%b0%d0%b9%d1%81%d1%82%d0%b5%d1%80%d0%bd%d1%8e-%d0%b4%d0%bb%d1%8f-2/
END:VEVENT
BEGIN:VEVENT
DTSTART;TZID=Europe/Berlin:20251203T160000
DTEND;TZID=Europe/Berlin:20251203T180000
DTSTAMP:20260425T145200
CREATED:20251203T154416Z
LAST-MODIFIED:20251203T154417Z
UID:18414-1764777600-1764784800@uvnev.de
SUMMARY:Запрошуємо на Різдвяну Майстерню для дітей та молоді!
DESCRIPTION:Шукаєте святкову активність для ваших малюків? Приєднуйтесь до нас і разом поринемо в атмосферу магії Різдва! Українська Спілка Нижньої Саксонії\, кухня\, 1 поверх. \n\n\n\nЗаписуйтеся зараз і робіть Різдво ще яскравішим https://widgets.yolawo.de/w/0/offers/692d5512344df29122ca8e49?t=1764590680169!
URL:https://uvnev.de/uk/veranstaltung/%d0%b7%d0%b0%d0%bf%d1%80%d0%be%d1%88%d1%83%d1%94%d0%bc%d0%be-%d0%bd%d0%b0-%d1%80%d1%96%d0%b7%d0%b4%d0%b2%d1%8f%d0%bd%d1%83-%d0%bc%d0%b0%d0%b9%d1%81%d1%82%d0%b5%d1%80%d0%bd%d1%8e-%d0%b4%d0%bb%d1%8f/
END:VEVENT
BEGIN:VEVENT
DTSTART;TZID=Europe/Berlin:20251115T100000
DTEND;TZID=Europe/Berlin:20251115T143000
DTSTAMP:20260425T145200
CREATED:20251019T125955Z
LAST-MODIFIED:20251023T191118Z
UID:17965-1763200800-1763217000@uvnev.de
SUMMARY:Експертна конференція «Розширення можливостей у русі: шляхи проти дискримінації жінок та молоді з України»
DESCRIPTION:Де: Kulturzentrum Pavillon\, Lister Meile 4\, 30161 Hannover. Необхідна реєстрація\, будь ласка\, натисніть тут!
URL:https://uvnev.de/uk/veranstaltung/%d0%b5%d0%ba%d1%81%d0%bf%d0%b5%d1%80%d1%82%d0%bd%d0%b0-%d0%ba%d0%be%d0%bd%d1%84%d0%b5%d1%80%d0%b5%d0%bd%d1%86%d1%96%d1%8f-%d1%80%d0%be%d0%b7%d1%88%d0%b8%d1%80%d0%b5%d0%bd%d0%bd%d1%8f-%d0%bc/
END:VEVENT
BEGIN:VEVENT
DTSTART;TZID=Europe/Berlin:20250927T180000
DTEND;TZID=Europe/Berlin:20250927T193000
DTSTAMP:20260425T145200
CREATED:20250828T163836Z
LAST-MODIFIED:20250828T163837Z
UID:17826-1758996000-1759001400@uvnev.de
SUMMARY:Показ документального фільму «Ярослав Мудрий – тесть Європи»
DESCRIPTION:Українська Спілка Нижньої Саксонії\, Königstraße 20\, 30175 Hannover (Raum 2.1.) \n\n\n\nВхід: вільний (добровільний внесок). Реєстрація:: https://bit.ly/41MFKaO
URL:https://uvnev.de/uk/veranstaltung/%d0%bf%d0%be%d0%ba%d0%b0%d0%b7-%d0%b4%d0%be%d0%ba%d1%83%d0%bc%d0%b5%d0%bd%d1%82%d0%b0%d0%bb%d1%8c%d0%bd%d0%be%d0%b3%d0%be-%d1%84%d1%96%d0%bb%d1%8c%d0%bc%d1%83-%d1%8f%d1%80%d0%be%d1%81%d0%bb/
END:VEVENT
BEGIN:VEVENT
DTSTART;TZID=Europe/Berlin:20250927T180000
DTEND;TZID=Europe/Berlin:20250927T193000
DTSTAMP:20260425T145200
CREATED:20250828T162749Z
LAST-MODIFIED:20250925T161950Z
UID:17821-1758996000-1759001400@uvnev.de
SUMMARY:КОНЦЕРТ СКАСОВАНО!!!: Благодійний концерт 2: Злати Огневич
DESCRIPTION:Церква Святого Матєя\, Ганновер (Matthäikirche\, Matthäikirchstrasse 11\, 30519 Hannover). \n\n\n\nКонцерт 2\, 18-19:30. 
URL:https://uvnev.de/uk/veranstaltung/%d0%ba%d0%be%d0%bd%d1%86%d0%b5%d1%80%d1%82-2-%d0%b7%d0%bb%d0%b0%d1%82%d0%b8-%d0%be%d0%b3%d0%bd%d0%b5%d0%b2%d0%b8%d1%87/
END:VEVENT
BEGIN:VEVENT
DTSTART;TZID=Europe/Berlin:20250927T150000
DTEND;TZID=Europe/Berlin:20250927T163000
DTSTAMP:20260425T145200
CREATED:20250828T162034Z
LAST-MODIFIED:20250925T162041Z
UID:17815-1758985200-1758990600@uvnev.de
SUMMARY:КОНЦЕРТ СКАСОВАНО!!!: Благодійний концерт 1: Злати Огневич
DESCRIPTION:Церква Святого Матєя\, Ганновер (Matthäikirche\, Matthäikirchstrasse 11\, 30519 Hannover). \n\n\n\nКонцерт 1\, 15:00-16:30.
URL:https://uvnev.de/uk/veranstaltung/%d0%ba%d0%be%d0%bd%d1%86%d0%b5%d1%80%d1%82-1-%d0%b7%d0%bb%d0%b0%d1%82%d0%b8-%d0%be%d0%b3%d0%bd%d0%b5%d0%b2%d0%b8%d1%87/
END:VEVENT
BEGIN:VEVENT
DTSTART;TZID=Europe/Berlin:20250925T183000
DTEND;TZID=Europe/Berlin:20250925T200000
DTSTAMP:20260425T145200
CREATED:20250827T093410Z
LAST-MODIFIED:20250827T093411Z
UID:17807-1758825000-1758830400@uvnev.de
SUMMARY:Концерт Української капели бандуристів України імені Г. Майбороди
DESCRIPTION:Церква Святого Матєя\, Ганновер (Matthäikirche\, Matthäikirchstrasse 11\, 30519 Hannover) \n\n\n\nРеєстрація::https://bit.ly/3UF1xgM
URL:https://uvnev.de/uk/veranstaltung/%d0%ba%d0%be%d0%bd%d1%86%d0%b5%d1%80%d1%82-%d1%83%d0%ba%d1%80%d0%b0%d1%97%d0%bd%d1%81%d1%8c%d0%ba%d0%be%d1%97-%d0%ba%d0%b0%d0%bf%d0%b5%d0%bb%d0%b8-%d0%b1%d0%b0%d0%bd%d0%b4%d1%83%d1%80%d0%b8%d1%81/
END:VEVENT
BEGIN:VEVENT
DTSTART;TZID=Europe/Berlin:20250921T110000
DTEND;TZID=Europe/Berlin:20250921T190000
DTSTAMP:20260425T145200
CREATED:20250827T092405Z
LAST-MODIFIED:20250827T092407Z
UID:17802-1758452400-1758481200@uvnev.de
SUMMARY:Український стенд на Bothfelder Herbstmarkt у районі Ганновер-Ботфельд
DESCRIPTION:
URL:https://uvnev.de/uk/veranstaltung/%d1%83%d0%ba%d1%80%d0%b0%d1%97%d0%bd%d1%81%d1%8c%d0%ba%d0%b8%d0%b9-%d1%81%d1%82%d0%b5%d0%bd%d0%b4-%d0%bd%d0%b0-bothfelder-herbstmarkt-%d1%83-%d1%80%d0%b0%d0%b9%d0%be%d0%bd%d1%96-%d0%b3%d0%b0-2/
END:VEVENT
BEGIN:VEVENT
DTSTART;TZID=Europe/Berlin:20250920T110000
DTEND;TZID=Europe/Berlin:20250920T190000
DTSTAMP:20260425T145200
CREATED:20250827T092204Z
LAST-MODIFIED:20250827T092206Z
UID:17798-1758366000-1758394800@uvnev.de
SUMMARY:Український стенд на Bothfelder Herbstmarkt у районі Ганновер-Ботфельд
DESCRIPTION:
URL:https://uvnev.de/uk/veranstaltung/%d1%83%d0%ba%d1%80%d0%b0%d1%97%d0%bd%d1%81%d1%8c%d0%ba%d0%b8%d0%b9-%d1%81%d1%82%d0%b5%d0%bd%d0%b4-%d0%bd%d0%b0-bothfelder-herbstmarkt-%d1%83-%d1%80%d0%b0%d0%b9%d0%be%d0%bd%d1%96-%d0%b3%d0%b0/
END:VEVENT
BEGIN:VEVENT
DTSTART;TZID=Europe/Berlin:20250914T120000
DTEND;TZID=Europe/Berlin:20250914T170000
DTSTAMP:20260425T145200
CREATED:20250827T091856Z
LAST-MODIFIED:20250827T091857Z
UID:17794-1757851200-1757869200@uvnev.de
SUMMARY:Український стенд на святі „Fest der Vielfalt“ від IIK e. V. на території Faust-Gelände
DESCRIPTION:
URL:https://uvnev.de/uk/veranstaltung/%d1%83%d0%ba%d1%80%d0%b0%d1%97%d0%bd%d1%81%d1%8c%d0%ba%d0%b8%d0%b9-%d1%81%d1%82%d0%b5%d0%bd%d0%b4-%d0%bd%d0%b0-%d1%81%d0%b2%d1%8f%d1%82%d1%96-fest-der-vielfalt-%d0%b2%d1%96/
END:VEVENT
BEGIN:VEVENT
DTSTART;TZID=Europe/Berlin:20250914T110000
DTEND;TZID=Europe/Berlin:20250914T190000
DTSTAMP:20260425T145200
CREATED:20250827T091516Z
LAST-MODIFIED:20250827T091517Z
UID:17790-1757847600-1757876400@uvnev.de
SUMMARY:Український стенд на „Entdeckertag“ у центрі Ганновера
DESCRIPTION:
URL:https://uvnev.de/uk/veranstaltung/%d1%83%d0%ba%d1%80%d0%b0%d1%97%d0%bd%d1%81%d1%8c%d0%ba%d0%b8%d0%b9-%d1%81%d1%82%d0%b5%d0%bd%d0%b4-%d0%bd%d0%b0-entdeckertag-%d1%83-%d1%86%d0%b5%d0%bd%d1%82%d1%80%d1%96-%d0%b3/
END:VEVENT
BEGIN:VEVENT
DTSTART;TZID=Europe/Berlin:20250907T110000
DTEND;TZID=Europe/Berlin:20250907T160000
DTSTAMP:20260425T145200
CREATED:20250827T090707Z
LAST-MODIFIED:20250827T090856Z
UID:17782-1757242800-1757260800@uvnev.de
SUMMARY:Український стенд на фестивалі „Kulturlustwandern“ у районі Ганновер-Дерен(Маминець Дерен та площа Fiedelerplatz)
DESCRIPTION:
URL:https://uvnev.de/uk/veranstaltung/ukrainischer-stand-beim-kulturlustwandern-in-hannover-dohren-mutterzentrum-dohren-und-fiedelerplatz/
END:VEVENT
BEGIN:VEVENT
DTSTART;TZID=Europe/Berlin:20250906T110000
DTEND;TZID=Europe/Berlin:20250906T160000
DTSTAMP:20260425T145200
CREATED:20250827T090541Z
LAST-MODIFIED:20250827T090542Z
UID:17780-1757156400-1757174400@uvnev.de
SUMMARY:Український стенд на фестивалі „Kulturlustwandern“ у районі Ганновер-Дерен(Маминець Дерен та площа Fiedelerplatz)
DESCRIPTION:
URL:https://uvnev.de/uk/veranstaltung/%d1%83%d0%ba%d1%80%d0%b0%d1%97%d0%bd%d1%81%d1%8c%d0%ba%d0%b8%d0%b9-%d1%81%d1%82%d0%b5%d0%bd%d0%b4-%d0%bd%d0%b0-%d1%84%d0%b5%d1%81%d1%82%d0%b8%d0%b2%d0%b0%d0%bb%d1%96-kulturlustwandern/
END:VEVENT
BEGIN:VEVENT
DTSTART;TZID=Europe/Berlin:20250831T130000
DTEND;TZID=Europe/Berlin:20250831T173000
DTSTAMP:20260425T145200
CREATED:20250821T193805Z
LAST-MODIFIED:20250821T193806Z
UID:17765-1756645200-1756661400@uvnev.de
SUMMARY:Два благодійні концерти української співачки Тоні Матвієнко у FZH Vahrenwald\, Vahrenwalder Straße 92\, 30165 Ганновер
DESCRIPTION:Концерт 1 о 13:00\, концерт 2 о 16:00. Необхідна реєстрація на обидва концерти\, див. http://uvnev.de/uk/дні-української-культури-в-ганновері-202
URL:https://uvnev.de/uk/veranstaltung/%d0%b4%d0%b2%d0%b0-%d0%b1%d0%bb%d0%b0%d0%b3%d0%be%d0%b4%d1%96%d0%b9%d0%bd%d1%96-%d0%ba%d0%be%d0%bd%d1%86%d0%b5%d1%80%d1%82%d0%b8-%d1%83%d0%ba%d1%80%d0%b0%d1%97%d0%bd%d1%81%d1%8c%d0%ba%d0%be%d1%97/
END:VEVENT
BEGIN:VEVENT
DTSTART;TZID=Europe/Berlin:20250830T173000
DTEND;TZID=Europe/Berlin:20250830T190000
DTSTAMP:20260425T145200
CREATED:20250721T154732Z
LAST-MODIFIED:20250821T191841Z
UID:17675-1756575000-1756580400@uvnev.de
SUMMARY:Дні Української Культури в Ганновері 2025 - показ дитячого фільму «Мавка – лісова пісня»
DESCRIPTION:Необхідна реєстрація\, див. http://uvnev.de/uk/дні-української-культури-в-ганновері-202
URL:https://uvnev.de/uk/veranstaltung/%d0%b4%d0%bd%d1%96-%d1%83%d0%ba%d1%80%d0%b0%d1%97%d0%bd%d1%81%d1%8c%d0%ba%d0%be%d1%97-%d0%ba%d1%83%d0%bb%d1%8c%d1%82%d1%83%d1%80%d0%b8-%d0%b2-%d0%b3%d0%b0%d0%bd%d0%bd%d0%be%d0%b2%d0%b5%d1%80%d1%96-2-2/
END:VEVENT
BEGIN:VEVENT
DTSTART;TZID=Europe/Berlin:20250824T120000
DTEND;TZID=Europe/Berlin:20250824T200000
DTSTAMP:20260425T145200
CREATED:20250721T155204Z
LAST-MODIFIED:20250821T191450Z
UID:17677-1756036800-1756065600@uvnev.de
SUMMARY:Дні Української Культури в Ганновері 2025 - Український родинний фестиваль
DESCRIPTION:Необхідна реєстрація\, див. http://uvnev.de/uk/дні-української-культури-в-ганновері-202
URL:https://uvnev.de/uk/veranstaltung/%d0%b4%d0%bd%d1%96-%d1%83%d0%ba%d1%80%d0%b0%d1%97%d0%bd%d1%81%d1%8c%d0%ba%d0%be%d1%97-%d0%ba%d1%83%d0%bb%d1%8c%d1%82%d1%83%d1%80%d0%b8-%d0%b2-%d0%b3%d0%b0%d0%bd%d0%bd%d0%be%d0%b2%d0%b5%d1%80%d1%96-2-3/
END:VEVENT
BEGIN:VEVENT
DTSTART;TZID=Europe/Berlin:20250823T150000
DTEND;TZID=Europe/Berlin:20250823T200000
DTSTAMP:20260425T145200
CREATED:20250721T153937Z
LAST-MODIFIED:20250821T190239Z
UID:17673-1755961200-1755979200@uvnev.de
SUMMARY:Дні Української Культури в Ганновері 2025 – Демонстрація\, хода\, кінопоказ та дискусія на тему «Життя під російською окупацією»
DESCRIPTION:Необхідна реєстрація\, див. http://uvnev.de/uk/дні-української-культури-в-ганновері-202
URL:https://uvnev.de/uk/veranstaltung/%d0%b4%d0%bd%d1%96-%d1%83%d0%ba%d1%80%d0%b0%d1%97%d0%bd%d1%81%d1%8c%d0%ba%d0%be%d1%97-%d0%ba%d1%83%d0%bb%d1%8c%d1%82%d1%83%d1%80%d0%b8-%d0%b2-%d0%b3%d0%b0%d0%bd%d0%bd%d0%be%d0%b2%d0%b5%d1%80%d1%96-202/
END:VEVENT
BEGIN:VEVENT
DTSTART;TZID=Europe/Berlin:20250822T190000
DTEND;TZID=Europe/Berlin:20250822T210000
DTSTAMP:20260425T145200
CREATED:20250821T184718Z
LAST-MODIFIED:20250821T184721Z
UID:17751-1755889200-1755896400@uvnev.de
SUMMARY:Дні Української Культури в Ганновері 2025 – „Бо любов і життя сильніші за смерть і війну“ – Симфонія для України в Апостелькірхе
DESCRIPTION:вхід з 18:00. Апостелькірхе\, організатор: KUM Nds.\, Андреас Шмідт. Дні Української Культури в Ганновері 2025 – UVNEV
URL:https://uvnev.de/uk/veranstaltung/%d0%b4%d0%bd%d1%96-%d1%83%d0%ba%d1%80%d0%b0%d1%97%d0%bd%d1%81%d1%8c%d0%ba%d0%be%d1%97-%d0%ba%d1%83%d0%bb%d1%8c%d1%82%d1%83%d1%80%d0%b8-%d0%b2-%d0%b3%d0%b0%d0%bd%d0%bd%d0%be%d0%b2%d0%b5%d1%80%d1%96-2-4/
END:VEVENT
BEGIN:VEVENT
DTSTART;TZID=Europe/Berlin:20250315T170000
DTEND;TZID=Europe/Berlin:20250315T190000
DTSTAMP:20260425T145200
CREATED:20250220T142815Z
LAST-MODIFIED:20250220T142819Z
UID:16965-1742058000-1742065200@uvnev.de
SUMMARY:Благодійний концерт Товариства українців у Нижній Саксонії e.V.
DESCRIPTION:У суботу 15 березня 2025 року о 17:00 у приміщенні нашої асоціації ми організовуємо благодійний концерт в рамках заходів з нагоди 3-ї річниці російського вторгнення в Україну.
URL:https://uvnev.de/uk/veranstaltung/%d0%b1%d0%bb%d0%b0%d0%b3%d0%be%d0%b4%d1%96%d0%b9%d0%bd%d0%b8%d0%b9-%d0%ba%d0%be%d0%bd%d1%86%d0%b5%d1%80%d1%82-%d1%82%d0%be%d0%b2%d0%b0%d1%80%d0%b8%d1%81%d1%82%d0%b2%d0%b0-%d1%83%d0%ba%d1%80%d0%b0/
END:VEVENT
BEGIN:VEVENT
DTSTART;TZID=Europe/Berlin:20250224T170000
DTEND;TZID=Europe/Berlin:20250224T190000
DTSTAMP:20260425T145200
CREATED:20250220T134144Z
LAST-MODIFIED:20250220T134146Z
UID:16951-1740416400-1740423600@uvnev.de
SUMMARY:Демонстрація до 3-ї річниці повномасштабного вторгнення росії в Україну
DESCRIPTION:Демонстрація до 3-ї річниці повномасштабного вторгнення росії в Україну. 24 лютого 2025 о 17:00.  Опернплац\, площа перед оперою\, Ганновер. \n\n\n\nУкраїнська Спілка Нижньої Саксонії запрошує всіх долучитися до акції\, щоб разом:   \n\n\n\nВшанувати пам’ять героїв України – тих\, хто бореться за свободу та демократію\, і тих\, хто віддав за це життя.   \n\n\n\nНагадати світу\, що війна триває – Україна досі потребує нашої підтримки та встановлення справедливого миру.   \n\n\n\nПоказати сильний знак солідарності – проти російської агресії\, за мир та свободу України та за європейські цінності. \n\n\n\nУкраїна бореться не лише за свою незалежність\, а й за свободу та справедливість у всій Європі. \n\n\n\nДолучайтеся\, підтримайте нашу Батьківщину. Приходьте\, не залишайтеся осторонь!    \n\n\n\nПриходьте\, беріть друзів і знайомих! Кожен голос має значення! \n\n\n\nПросимо розповсюджувати наш заклик серед друзів та знайомих! Дякуємо щиро! #StandWithUkraine
URL:https://uvnev.de/uk/veranstaltung/%d0%b4%d0%b5%d0%bc%d0%be%d0%bd%d1%81%d1%82%d1%80%d0%b0%d1%86%d1%96%d1%8f-%d0%b4%d0%be-3-%d1%97-%d1%80%d1%96%d1%87%d0%bd%d0%b8%d1%86%d1%96-%d0%bf%d0%be%d0%b2%d0%bd%d0%be%d0%bc%d0%b0%d1%81%d1%88%d1%82/
END:VEVENT
BEGIN:VEVENT
DTSTART;TZID=Europe/Berlin:20250223T180000
DTEND;TZID=Europe/Berlin:20250223T190000
DTSTAMP:20260425T145200
CREATED:20250220T140813Z
LAST-MODIFIED:20250220T140816Z
UID:16959-1740333600-1740337200@uvnev.de
SUMMARY:Фільм «Ми були рекрутами»
DESCRIPTION:У неділю 23 лютого 2025 року о 18:00 ми покажемо фільм «Ми були новобранцями» у наших клубних залах в рамках заходів з нагоди 3-ї річниці російського вторгнення в Україну.
URL:https://uvnev.de/uk/veranstaltung/%d1%84%d1%96%d0%bb%d1%8c%d0%bc-%d0%bc%d0%b8-%d0%b1%d1%83%d0%bb%d0%b8-%d1%80%d0%b5%d0%ba%d1%80%d1%83%d1%82%d0%b0%d0%bc%d0%b8/
END:VEVENT
BEGIN:VEVENT
DTSTART;TZID=Europe/Berlin:20240930T183000
DTEND;TZID=Europe/Berlin:20240930T200000
DTSTAMP:20260425T145200
CREATED:20240903T120432Z
LAST-MODIFIED:20240903T120435Z
UID:16159-1727721000-1727726400@uvnev.de
SUMMARY:Концерт «Rizol Quartet» з Києва
DESCRIPTION:Українська Спілка Нижньої Саксонії та Культурний центр Лінден запрошують на концерт «Rizol Quartet» з Києва.Коли? Понеділок\, 30.09.2024\, 18:30Де? Freizeitheim Linden\, Windheimstraße 4\, 30451 Hannover (зупинка трамвая 10 “Freizeitheim Linden”)Доступ до будівлі безбар’єрний.Реєстрація: https://bit.ly/4g9jKMU \n\n\n\nУнікальний колектив був заснований у 1939 році. З 1946 року працює в Національній філармонії України. Його очолював родоначальник квартету\, народний артист України\, професор Микола Різоль.Сьогодні квартет виступає у наступному складі: художній керівник – заслужений артист України Олег Шиян (перший акордеон\, акордеон-гобой)\, лауреат Міжнародних конкурсів В’ячеслав Мосейчук (другий акордеон\, акордеон-кларнет)\, лауреат Міжнародних конкурсів Олексій Коломоєць (акордеон-баритон)\, заслужений артист України Роман Молоченко (акордеон-контрабас). \n\n\n\nВ репертуарі ансамблю твори Баха\, Вівальді\, Моцарта\, Штрауса\, Мендельсона\, П’яццолли\, Скорика\, Різоль та інших.“Rizol Quartet” виступав у багатьох містах України\, Польщі\, Італії\, Швейцарії\, Німеччини.В умовах повномасштабної агресії росії проти України колектив бере активну участь у концертах у прифронтових регіонах країни\, забезпечуючи морально-психологічну підтримку українців та бойовий дух її захисників! \n\n\n\nКонцерт проходить в рамках Днів української культури в Ганновері 2024 та націлений на збір коштів для закупки генераторів для України. Вхід вільний. Благодійні внески на місці обов’язкові.Гарантуємо вам незабутній вечір та теплу атмосферу.До зустрічі\, друзі!
URL:https://uvnev.de/uk/veranstaltung/%d0%ba%d0%be%d0%bd%d1%86%d0%b5%d1%80%d1%82-rizol-quartet-%d0%b7-%d0%ba%d0%b8%d1%94%d0%b2%d0%b0/
END:VEVENT
BEGIN:VEVENT
DTSTART;TZID=Europe/Berlin:20240815T160000
DTEND;TZID=Europe/Berlin:20240912T190000
DTSTAMP:20260425T145200
CREATED:20240710T120615Z
LAST-MODIFIED:20240710T120618Z
UID:15679-1723737600-1726167600@uvnev.de
SUMMARY:Дні української культури в Ганновері (серпень - вересень 2024 р.)
DESCRIPTION:Дні української культури в Ганновері – це знакова подія\, яка пройде з серпня по вересень 2024 року. Її метою є збереження українських традицій через різноманітні культурні заходи\, а також висловлення вдячності жителям Німеччини за безпеку та підтримку України. \n\n\n\nДемонстрація\, Сімейний Фестиваль\, Виставки\, Покази Мод\, Аудірвізуальні інсталяції\, Покази українського кіно та багато іншого. Слідкуйте за нашими новинами! \n\n\n\n \n\n\n\nУсі благодійні пожертви надійдуть до благодійного фонду “Голоси дітей” (Україна) і будуть використані для психосоціальної підтримки дітей Миколаївщини\, які постраждали від війни.
URL:https://uvnev.de/uk/veranstaltung/%d0%b4%d0%bd%d1%96-%d1%83%d0%ba%d1%80%d0%b0%d1%97%d0%bd%d1%81%d1%8c%d0%ba%d0%be%d1%97-%d0%ba%d1%83%d0%bb%d1%8c%d1%82%d1%83%d1%80%d0%b8-%d0%b2-%d0%b3%d0%b0%d0%bd%d0%bd%d0%be%d0%b2%d0%b5%d1%80%d1%96/
END:VEVENT
BEGIN:VEVENT
DTSTART;TZID=Europe/Berlin:20240710T100000
DTEND;TZID=Europe/Berlin:20240710T170000
DTSTAMP:20260425T145200
CREATED:20240624T080400Z
LAST-MODIFIED:20240710T084742Z
UID:15675-1720605600-1720630800@uvnev.de
SUMMARY:Благодійний фототерапевтичний проєкт «ЖІНОЧА ІНІЦІАЦІЯ»
DESCRIPTION:Запрошуємо дівчат будь-якого віку на благодійний фототерапевтичний проєкт «ЖІНОЧА ІНІЦІАЦІЯ». Зібрані гроші підуть на допомогу пораненим. Проєкт включає в себе роботу: фотографа\, стиліста\, ретуш\, підбір образу з колекції вишиванок так традиційних прикрас Ольги Декуш\, 5 оброблених фотографій.  \n\n\n\nДата: 29 червня 2024 року  \n\n\n\nЧас: 10.30 – 18.00  \n\n\n\nАдреса: Українська Спілка Нижньої Саксонії\, Königstraße 20\, 30175 Hannover  \n\n\n\nВартість участі у проєкті 59 євро. Зібрані кошти підуть на благодійність для поранених захисників в Україні\, тому розмір ваших донатів може бути більшим. Робота візажиста оплачується окремо (15 хв). Попередній запис обов’язковий для резерву часу. Пишіть в телеграм чи вайбер на номер +380677617799 Ольга Декуш. Підготовка до початку фотосесії (20-30хв)\, 25-30 хв фотозйомка (підготовленого образу).  \n\n\n\nНа фото представлені можливі образи. Ваш буде неповторним!  \n\n\n\nЗа сприяння Української Спілки Нижньої Саксонії
URL:https://uvnev.de/uk/veranstaltung/%d0%b1%d0%bb%d0%b0%d0%b3%d0%be%d0%b4%d1%96%d0%b9%d0%bd%d0%b8%d0%b9-%d1%84%d0%be%d1%82%d0%be%d1%82%d0%b5%d1%80%d0%b0%d0%bf%d0%b5%d0%b2%d1%82%d0%b8%d1%87%d0%bd%d0%b8%d0%b9-%d0%bf%d1%80%d0%be%d1%94%d0%ba/
END:VEVENT
BEGIN:VEVENT
DTSTART;TZID=Europe/Berlin:20240709T180000
DTEND;TZID=Europe/Berlin:20240709T190000
DTSTAMP:20260425T145200
CREATED:20240709T114400Z
LAST-MODIFIED:20240710T072354Z
UID:15664-1720548000-1720551600@uvnev.de
SUMMARY:Акція солідарності з Україною в пам'ять про жертв російської агресії\, 09.07.2024
DESCRIPTION:Коли: 09.07.2024 о 18:00.  \n\n\n\nДе: Крепке.  \n\n\n\nПриходьте на Акцію зі своїми гаслами та фотографіями. Зверніть увагу\, що за вимогою поліції ми повинні дотримуватися цензури. Слідкуйте\, щоб на фото не було зображень з кров’ю та пораненими жертвами\, які можуть травмувати інших. За даними ООН\, Росія вбила понад 10 233 українських цивільних осіб\, серед яких багато дітей. Понад 100 000 українських цивільних осіб загинули в російському полоні. 8 липня Росія атакувала найбільшу українську дитячу лікарню в Києві\, а також дві лікарські клініки та будинки цивільних осіб. Акція організована Українською Спілкою Нижньої Саксонії \n\n\n\n\n\n\n\n5 \n\n\n\n\n\n\n\n4 \n\n\n\n947Alina S.\, 13:28
URL:https://uvnev.de/uk/veranstaltung/%d0%b0%d0%ba%d1%86%d1%96%d1%8f-%d1%81%d0%be%d0%bb%d1%96%d0%b4%d0%b0%d1%80%d0%bd%d0%be%d1%81%d1%82%d1%96-%d0%b7-%d1%83%d0%ba%d1%80%d0%b0%d1%97%d0%bd%d0%be%d1%8e-%d0%b2-%d0%bf%d0%b0%d0%bc%d1%8f%d1%82/
END:VEVENT
BEGIN:VEVENT
DTSTART;TZID=Europe/Berlin:20240202T200000
DTEND;TZID=Europe/Berlin:20240202T213000
DTSTAMP:20260425T145200
CREATED:20240104T152408Z
LAST-MODIFIED:20240104T152411Z
UID:14999-1706904000-1706909400@uvnev.de
SUMMARY:Скофка x Дові x Козак Сіромаха у Німеччині з великим концертом! 
DESCRIPTION:2 лютого 2024 року запрошуємо вас відчути силу та енергію українських артистів у Ганновері! \n\n\n\nВиступи Skofka x Dovi x Kozak Siromaha відбудуться вже цієї зими! Не пропустіть можливість побачити трьох улюблених виконавців на одній сцені.  \n\n\n\nСпіваки\, які у своїй творчості завжди залишаються вірними українській культурі\, приїдуть до вас\, щоб заспівати з вами\, поспілкуватися та подарувати вам захоплюючий вечір! \n\n\n\nСкофка\, один з провідних представників сучасного українського репу\, дарує слухачам свої унікальні та повноцінні пісні\, кожна з яких є щирою історією. Цього вечора він об’єднається з Dovi\, талановитим виконавцем\, який вміло поєднує у своїх піснях різні музичні стилі.  \n\n\n\nРазом з ними на сцену вийде Козак Сіромаха – справжній представник козацької духовності\, який живе і творить за козацькими законами. Його музика просякнута українським духом\, стійкістю та мужністю. \n\n\n\nНасолоджуйтесь цим унікальним поєднанням таланту та автентики на неймовірному концерті Skofka x Dovi x Kozak Siromaha!  \n\n\n\n1-2-3 лютого ви відчуєте всю силу та енергію цих артистів у трьох європейських містах! \n\n\n\n1 лютого 2024 року\, Берлін\, BadeHaus  \n\n\n\n2 лютого 2024 року\, Ганновер\, LUX Hannover  \n\n\n\n3 лютого 2024 року\, Амстердам\, Bitterzoet \n\n\n\nЩоб потрапити на концерт Skofka x Dovi x Kozak Siromaha в Ганновері\, купуйте квитки онлайн та в клубах. Будемо чекати на вас! \n\n\n\nПісні виконавців: \n\n\n\nSkofka – “Погані сусіди” \n\n\n\nDovi – “Буде Свято” \n\n\n\nKozak Siromaha – “Ну ж бо” \n\n\n\nквитки можна придбати за посиланням:  \n\n\n\nhttps://de.mticket.eu/pl/hannover/event/skofka-x-dovi-x-kozak-siromaha-at-hannover-1423-2301.html
URL:https://uvnev.de/uk/veranstaltung/%d1%81%d0%ba%d0%be%d1%84%d0%ba%d0%b0-x-%d0%b4%d0%be%d0%b2%d1%96-x-%d0%ba%d0%be%d0%b7%d0%b0%d0%ba-%d1%81%d1%96%d1%80%d0%be%d0%bc%d0%b0%d1%85%d0%b0-%d1%83-%d0%bd%d1%96%d0%bc%d0%b5%d1%87%d1%87%d0%b8/
END:VEVENT
BEGIN:VEVENT
DTSTART;TZID=Europe/Berlin:20231217T133000
DTEND;TZID=Europe/Berlin:20231217T163000
DTSTAMP:20260425T145200
CREATED:20231206T093037Z
LAST-MODIFIED:20231214T143223Z
UID:14866-1702819800-1702830600@uvnev.de
SUMMARY:Weihnachtskonzert in der Matthäikirche\, 17.12.2023
DESCRIPTION: 
URL:https://uvnev.de/uk/veranstaltung/weihnachtskonzert-in-der-matthaikirche-17-12-2023/
END:VEVENT
BEGIN:VEVENT
DTSTART;TZID=Europe/Berlin:20231202T100000
DTEND;TZID=Europe/Berlin:20231202T200000
DTSTAMP:20260425T145200
CREATED:20231128T141021Z
LAST-MODIFIED:20231128T141221Z
UID:14811-1701511200-1701547200@uvnev.de
SUMMARY:Geschenke für Kinder im Ukraine-Krieg
DESCRIPTION:Kinder leiden im Krieg besonders. Deshalb organisiert die Landeshauptstadt Hannover zu Weihnachten eine Spendenaktion für Kinder in der ukrainischen Stadt Mykolajiw. Hannovers Bürger*innen sollen mitmachen. Für den Zeitraum vom 20. November bis 2. Dezember ruft die Stadt dazu auf\, Geschenke wie zum Beispiel Spiele\, Schreibwaren\, Spielzeuge\, warme Handschuhe und Mützen zu spenden. \n\n\n\nGeschenke für Kinder im Ukraine-Krieg am Samstag\, 02.12.2023 zwischen 10:00 und 18:00 Uhr:Stand des Ukrainischen Vereins in Niedersachsen (UVN) im Aufhof\, Schmiedestraße 12\, 30159 Hannover \n\n\n\nWeitere Informationen über den Link https://www.hannover.de/Service/Presse-Medien/Landeshauptstadt-Hannover/Aktuelle-Meldungen-und-Veranstaltungen/Geschenke-f%C3%BCr-Kinder-im-Ukraine-Krieg
URL:https://uvnev.de/uk/veranstaltung/geschenke-fur-kinder-im-ukraine-krieg/
END:VEVENT
BEGIN:VEVENT
DTSTART;TZID=Europe/Berlin:20231201T183000
DTEND;TZID=Europe/Berlin:20231201T210000
DTSTAMP:20260425T145200
CREATED:20231128T140454Z
LAST-MODIFIED:20231128T140456Z
UID:14809-1701455400-1701464400@uvnev.de
SUMMARY:Einladung zu dem Abschiedskonzert in der Bornumer Spendenhalle: Weihnachtsaktion Solidaritätspartnerschaft mit Mykolaiv
DESCRIPTION:Sehr geehrte Damen und Herren\,im Namen des Ukrainischen Vereins in Niedersachsen e.V. laden wir Sie herzlich zu dem Abschiedskonzert in die Spendenhalle Hannover Bornum ein\, von wo seid über einem Jahr humanitäre Hilfe für die Ukraine und für die Solidaritätspartnerschaft mit Mykolaiv geleistet wird.Datum: 01. Dezember 2023Uhrzeit: 19:00 Uhr (Einlass ab 18:30 Uhr)Ort: Nenndorfer Chaussee 9\, Hannover 30453 \n\n\n\nРеєструйтесь за посиланням: https://widgets.yolawo.de/w/64d0c31339faa21715d7424e/bookables/65536a0ce238b17dfbeefac1 \n\n\n\nDie Spendenhalle müssen wir Anfang Dezember aufgeben\, und mit diesem Abschiedskonzert möchten wir all jenen unseren Dank aussprechen\, die die Menschen in und aus der Ukraine stets unterstützen und humanitäre Hilfe geleistet haben.Die Veranstaltung bietet auch die Gelegenheit an der Spendenaktion der Stadt Hannover https://www.hannover.de/spendenaufruf_mykolajiw Geschenke für Kinder im Ukraine-Krieg teilzunehmen sowie musikalische und kulturelle Vielfalt der Ukraine näher kennenzulernen.Die Zusammenarbeit mit der Kontaktstelle für ukrainische Musiker*innen (Instagram @KUM_NDS) sorgt für ein abwechslungsreiches Abendprogramm. DieHöhepunkte des Abends umfassen musikalische Darbietungen\, eine Theateraufführung und die Möglichkeit\, traditionelle ukrainische Köstlichkeiten zu probieren. \n\n\n\nEs ist uns eine Herzensangelegenheit\, Spenden für das humanitäre Projekt “Solidaritätspartnerschaft mit Mykolaiv” zu sammeln. Während der Veranstaltung besteht die Möglichkeit\, wohltätige Spenden für dieses Projekt beizusteuern\, das den Menschen in den zerstörten Städten zugutekommt. \n\n\n\nWir würden uns sehr freuen\, Sie an diesem besonderen Abend begrüßen zu dürfen und gemeinsam die Adventszeit zu feiern. \n\n\n\nMit freundlichen Grüßen \n\n\n\nUkrainischer Verein in Niedersachsen e. V.
URL:https://uvnev.de/uk/veranstaltung/einladung-zu-dem-abschiedskonzert-in-der-bornumer-spendenhalle-weihnachtsaktion-solidaritatspartnerschaft-mit-mykolaiv/
END:VEVENT
BEGIN:VEVENT
DTSTART;TZID=Europe/Berlin:20230826T100000
DTEND;TZID=Europe/Berlin:20230826T150000
DTSTAMP:20260425T145201
CREATED:20230816T090329Z
LAST-MODIFIED:20230816T090332Z
UID:14078-1693044000-1693062000@uvnev.de
SUMMARY:Samstags-Wohltätigkeits-Café
DESCRIPTION:Samstags-Wohltätigkeits-Café beim Ukrainischen Verein in Niedersachsen e. V. ist wieder da mit Ihren Lieblingsgerichten aus der ukrainischen Küche! \n\n\n\nJeden Samstag\, 10-15 Uhr \n\n\n\nin der Geschäftsstelle des Vereins: Podbielskistraße 269\, 30655 Hannover \n\n\n\nDie gesammelten Spenden verwenden wir für wohltätige Zwecke! Wir bieten Mahlzeiten zum Mitnehmen an. Bitte bringen Sie Ihre eigenen Behälter mit.
URL:https://uvnev.de/uk/veranstaltung/samstags-wohltatigkeits-cafe/
END:VEVENT
END:VCALENDAR