BEGIN:VCALENDAR
VERSION:2.0
PRODID:-//UVNEV - ECPv6.2.6//NONSGML v1.0//EN
CALSCALE:GREGORIAN
METHOD:PUBLISH
X-WR-CALNAME:UVNEV
X-ORIGINAL-URL:https://uvnev.de/uk/
X-WR-CALDESC:Events for UVNEV
REFRESH-INTERVAL;VALUE=DURATION:PT1H
X-Robots-Tag:noindex
X-PUBLISHED-TTL:PT1H
BEGIN:VTIMEZONE
TZID:Europe/Berlin
BEGIN:DAYLIGHT
TZOFFSETFROM:+0100
TZOFFSETTO:+0200
TZNAME:CEST
DTSTART:20260329T010000
END:DAYLIGHT
BEGIN:STANDARD
TZOFFSETFROM:+0200
TZOFFSETTO:+0100
TZNAME:CET
DTSTART:20261025T010000
END:STANDARD
END:VTIMEZONE
BEGIN:VEVENT
DTSTART;TZID=Europe/Berlin:20260224T170000
DTEND;TZID=Europe/Berlin:20260224T193000
DTSTAMP:20260424T010926
CREATED:20260216T090207Z
LAST-MODIFIED:20260216T090209Z
UID:18946-1771952400-1771961400@uvnev.de
SUMMARY:24 лютого виповнюється чотири роки від початку повномасштабного російського вторгнення в Україну. - Запрошення на мітинг на підтримку України: акція пам’яті та солідарності.
DESCRIPTION:Площа перед Оперою\, Ганновер. Ми збираємося\, щоб вшанувати пам’ять усіх загиблих\, висловити солідарність і нагадати: війна триває\, а Україна й надалі потребує підтримки та справедливості.
URL:https://uvnev.de/uk/veranstaltung/24-%d0%bb%d1%8e%d1%82%d0%be%d0%b3%d0%be-%d0%b2%d0%b8%d0%bf%d0%be%d0%b2%d0%bd%d1%8e%d1%94%d1%82%d1%8c%d1%81%d1%8f-%d1%87%d0%be%d1%82%d0%b8%d1%80%d0%b8-%d1%80%d0%be%d0%ba%d0%b8-%d0%b2%d1%96%d0%b4-%d0%bf/
END:VEVENT
BEGIN:VEVENT
DTSTART;TZID=Europe/Berlin:20260314T190000
DTEND;TZID=Europe/Berlin:20260314T213000
DTSTAMP:20260424T010926
CREATED:20260314T163201Z
LAST-MODIFIED:20260314T163202Z
UID:19140-1773514800-1773523800@uvnev.de
SUMMARY:Благодійний концерт “Надія є!” Вадим Красноокий
DESCRIPTION:Дорогі українці!Запрошуємо вас на другий благодійний концерт «Надія є.» за участі українського музиканта Вадима Красноокого (фронтмена легендарного гурту Mad Heads).Подія відбувається в рамках міжнародного туру #6992кмдержавногокордону\, який об’єднує українців по всьому світу та допомагає збирати кошти для наших захисників. Місце: Українська Спілка Нижньої Саксонії Königstraße 20\, 30175 Hannover \n\n\n\nРеєстрація обов’язкова! https://widgets.yolawo.de/w/0/bookables/69ad906e7de9941fa8df498b?t=1772982924522
URL:https://uvnev.de/uk/veranstaltung/%d0%b1%d0%bb%d0%b0%d0%b3%d0%be%d0%b4%d1%96%d0%b9%d0%bd%d0%b8%d0%b9-%d0%ba%d0%be%d0%bd%d1%86%d0%b5%d1%80%d1%82-%d0%bd%d0%b0%d0%b4%d1%96%d1%8f-%d1%94-%d0%b2%d0%b0%d0%b4%d0%b8%d0%bc/
END:VEVENT
BEGIN:VEVENT
DTSTART;TZID=Europe/Berlin:20260418T100000
DTEND;TZID=Europe/Berlin:20260418T160000
DTSTAMP:20260424T010926
CREATED:20260401T111152Z
LAST-MODIFIED:20260401T111837Z
UID:19489-1776506400-1776528000@uvnev.de
SUMMARY:Інтеграційний воркшоп «PlakatWAND Toleranz» у Ганновері
DESCRIPTION:Українська Спілка Нижньої Саксонії запрошує українців взяти участь у творчому інтеграційному воркшопі «PlakatWAND Toleranz»\, який відбудеться у Ганновері. Захід поєднує спілкування\, мовну практику та спільну творчу роботу над публічним мистецьким проєктом. \n\n\n\nМісце: Otto-Brenner-Straße 20–22\, 30159 Ганновер. Просимо зареєструватися. Додаткова інформація та реєстрація тут.
URL:https://uvnev.de/uk/veranstaltung/%d1%96%d0%bd%d1%82%d0%b5%d0%b3%d1%80%d0%b0%d1%86%d1%96%d0%b9%d0%bd%d0%b8%d0%b9-%d0%b2%d0%be%d1%80%d0%ba%d1%88%d0%be%d0%bf-plakatwand-toleranz-%d1%83-%d0%b3%d0%b0%d0%bd%d0%bd%d0%be%d0%b2/
END:VEVENT
BEGIN:VEVENT
DTSTART;TZID=Europe/Berlin:20260426T160000
DTEND;TZID=Europe/Berlin:20260426T180000
DTSTAMP:20260424T010926
CREATED:20260323T194933Z
LAST-MODIFIED:20260323T200532Z
UID:19310-1777219200-1777226400@uvnev.de
SUMMARY:Благодійний концерт Сергія Асафатова
DESCRIPTION:Запрошуємо вас на другий благодійний концерт Сергія Асафатова в Ганновері!Сергій Асафатов — український співак\, автор пісень та переможець шоу «Голос країни». Його музика об’єднує українців по всьому світу та підтримує тих\, хто боронить Україну. Місце: Ukrainischer Verein in Niedersachsen e. V.\, Königstr. 20\, 30175 Hannover. \n\n\n\nРеєстрація обов’язкова! https://widgets.yolawo.de/w/64d0c31339faa21715d7424e/offers/69b82a95bd5bd438f78df364/dates/69b82a95bd5bd438f78df369
URL:https://uvnev.de/uk/veranstaltung/%d0%b1%d0%bb%d0%b0%d0%b3%d0%be%d0%b4%d1%96%d0%b9%d0%bd%d0%b8%d0%b9-%d0%ba%d0%be%d0%bd%d1%86%d0%b5%d1%80%d1%82-%d1%81%d0%b5%d1%80%d0%b3%d1%96%d1%8f-%d0%b0%d1%81%d0%b0%d1%84%d0%b0%d1%82%d0%be%d0%b2/
END:VEVENT
END:VCALENDAR