BEGIN:VCALENDAR
VERSION:2.0
PRODID:-//UVNEV - ECPv6.2.6//NONSGML v1.0//EN
CALSCALE:GREGORIAN
METHOD:PUBLISH
X-ORIGINAL-URL:https://uvnev.de/uk/
X-WR-CALDESC:Events for UVNEV
REFRESH-INTERVAL;VALUE=DURATION:PT1H
X-Robots-Tag:noindex
X-PUBLISHED-TTL:PT1H
BEGIN:VTIMEZONE
TZID:Europe/Berlin
BEGIN:DAYLIGHT
TZOFFSETFROM:+0100
TZOFFSETTO:+0200
TZNAME:CEST
DTSTART:20250330T010000
END:DAYLIGHT
BEGIN:STANDARD
TZOFFSETFROM:+0200
TZOFFSETTO:+0100
TZNAME:CET
DTSTART:20251026T010000
END:STANDARD
END:VTIMEZONE
BEGIN:VEVENT
DTSTART;TZID=Europe/Berlin:20251204T160000
DTEND;TZID=Europe/Berlin:20251204T180000
DTSTAMP:20260424T020021
CREATED:20251203T154940Z
LAST-MODIFIED:20251203T154942Z
UID:18420-1764864000-1764871200@uvnev.de
SUMMARY:Запрошуємо на Різдвяну Майстерню для дітей та молоді!
DESCRIPTION:Шукаєте святкову активність для ваших малюків? Приєднуйтесь до нас і разом поринемо в атмосферу магії Різдва! Українська Спілка Нижньої Саксонії\, кухня\, 1 поверх. \n\n\n\nЗаписуйтеся зараз і робіть Різдво ще яскравішим https://widgets.yolawo.de/w/0/offers/692d5512344df29122ca8e49?t=1764590680169!
URL:https://uvnev.de/uk/veranstaltung/%d0%b7%d0%b0%d0%bf%d1%80%d0%be%d1%88%d1%83%d1%94%d0%bc%d0%be-%d0%bd%d0%b0-%d1%80%d1%96%d0%b7%d0%b4%d0%b2%d1%8f%d0%bd%d1%83-%d0%bc%d0%b0%d0%b9%d1%81%d1%82%d0%b5%d1%80%d0%bd%d1%8e-%d0%b4%d0%bb%d1%8f-2/
END:VEVENT
END:VCALENDAR