BEGIN:VCALENDAR
VERSION:2.0
PRODID:-//UVNEV - ECPv6.2.6//NONSGML v1.0//EN
CALSCALE:GREGORIAN
METHOD:PUBLISH
X-WR-CALNAME:UVNEV
X-ORIGINAL-URL:https://uvnev.de
X-WR-CALDESC:Veranstaltungen für UVNEV
REFRESH-INTERVAL;VALUE=DURATION:PT1H
X-Robots-Tag:noindex
X-PUBLISHED-TTL:PT1H
BEGIN:VTIMEZONE
TZID:Europe/Berlin
BEGIN:DAYLIGHT
TZOFFSETFROM:+0100
TZOFFSETTO:+0200
TZNAME:CEST
DTSTART:20260329T010000
END:DAYLIGHT
BEGIN:STANDARD
TZOFFSETFROM:+0200
TZOFFSETTO:+0100
TZNAME:CET
DTSTART:20261025T010000
END:STANDARD
END:VTIMEZONE
BEGIN:VEVENT
DTSTART;TZID=Europe/Berlin:20260426T160000
DTEND;TZID=Europe/Berlin:20260426T180000
DTSTAMP:20260421T111520
CREATED:20260323T195126Z
LAST-MODIFIED:20260323T200240Z
UID:19307-1777219200-1777226400@uvnev.de
SUMMARY:Benefizkonzert Serhii Asafatov
DESCRIPTION:Wir laden euch herzlich zum zweiten Benefizkonzert von Serhii Asafatov in Hannover ein! Serhii Asafatov ist ein ukrainischer Sänger\, Songwriter und Gewinner der Show „The Voice of Ukraine“. Seine Musik verbindet Ukrainerinnen und Ukrainer weltweit und unterstützt diejenigen\, die die Ukraine verteidigen. Ort: Ukrainischer Verein in Niedersachsen e. V.\, Königstr. 20\, 30175 Hannover. \n\n\n\nAnmeldung erforderlich: https://widgets.yolawo.de/w/64d0c31339faa21715d7424e/offers/69b82a95bd5bd438f78df364/dates/69b82a95bd5bd438f78df369
URL:https://uvnev.de/veranstaltung/benefizkonzert-sergij-asafatov/
END:VEVENT
END:VCALENDAR